BEGIN:VCALENDAR
VERSION:2.0
PRODID:-//The Company of Players (Hertford) - ECPv6.15.20//NONSGML v1.0//EN
CALSCALE:GREGORIAN
METHOD:PUBLISH
X-ORIGINAL-URL:https://cops.org.uk
X-WR-CALDESC:Events for The Company of Players (Hertford)
REFRESH-INTERVAL;VALUE=DURATION:PT1H
X-Robots-Tag:noindex
X-PUBLISHED-TTL:PT1H
BEGIN:VTIMEZONE
TZID:Europe/London
BEGIN:DAYLIGHT
TZOFFSETFROM:+0000
TZOFFSETTO:+0100
TZNAME:BST
DTSTART:20240331T010000
END:DAYLIGHT
BEGIN:STANDARD
TZOFFSETFROM:+0100
TZOFFSETTO:+0000
TZNAME:GMT
DTSTART:20241027T010000
END:STANDARD
BEGIN:DAYLIGHT
TZOFFSETFROM:+0000
TZOFFSETTO:+0100
TZNAME:BST
DTSTART:20250330T010000
END:DAYLIGHT
BEGIN:STANDARD
TZOFFSETFROM:+0100
TZOFFSETTO:+0000
TZNAME:GMT
DTSTART:20251026T010000
END:STANDARD
BEGIN:DAYLIGHT
TZOFFSETFROM:+0000
TZOFFSETTO:+0100
TZNAME:BST
DTSTART:20260329T010000
END:DAYLIGHT
BEGIN:STANDARD
TZOFFSETFROM:+0100
TZOFFSETTO:+0000
TZNAME:GMT
DTSTART:20261025T010000
END:STANDARD
BEGIN:DAYLIGHT
TZOFFSETFROM:+0000
TZOFFSETTO:+0100
TZNAME:BST
DTSTART:20270328T010000
END:DAYLIGHT
BEGIN:STANDARD
TZOFFSETFROM:+0100
TZOFFSETTO:+0000
TZNAME:GMT
DTSTART:20271031T010000
END:STANDARD
END:VTIMEZONE
BEGIN:VEVENT
DTSTART;TZID=Europe/London:20260111T153000
DTEND;TZID=Europe/London:20260111T180000
DTSTAMP:20260422T001343
CREATED:20251102T151118Z
LAST-MODIFIED:20251102T151118Z
UID:10001036-1768145400-1768154400@cops.org.uk
SUMMARY:Hobson's Choice
DESCRIPTION:
URL:https://cops.org.uk/event/hobsons-choice-11/
LOCATION:The Little Theatre\, 6 Christchurch Place\, Balfour Street\, Hertford\, Hertford\, SG14 3BB\, United Kingdom
CATEGORIES:Rehearsal
GEO:51.80002;-0.08556
X-APPLE-STRUCTURED-LOCATION;VALUE=URI;X-ADDRESS=The Little Theatre 6 Christchurch Place Balfour Street Hertford Hertford SG14 3BB United Kingdom;X-APPLE-RADIUS=500;X-TITLE=6 Christchurch Place\, Balfour Street:geo:-0.08556,51.80002
END:VEVENT
BEGIN:VEVENT
DTSTART;TZID=Europe/London:20260109T193000
DTEND;TZID=Europe/London:20260109T223000
DTSTAMP:20260422T001343
CREATED:20251102T150954Z
LAST-MODIFIED:20251102T150954Z
UID:10001035-1767987000-1767997800@cops.org.uk
SUMMARY:Hobson's Choice
DESCRIPTION:
URL:https://cops.org.uk/event/hobsons-choice-10/
LOCATION:The Little Theatre\, 6 Christchurch Place\, Balfour Street\, Hertford\, Hertford\, SG14 3BB\, United Kingdom
CATEGORIES:Rehearsal
GEO:51.80002;-0.08556
X-APPLE-STRUCTURED-LOCATION;VALUE=URI;X-ADDRESS=The Little Theatre 6 Christchurch Place Balfour Street Hertford Hertford SG14 3BB United Kingdom;X-APPLE-RADIUS=500;X-TITLE=6 Christchurch Place\, Balfour Street:geo:-0.08556,51.80002
END:VEVENT
BEGIN:VEVENT
DTSTART;TZID=Europe/London:20260108T193000
DTEND;TZID=Europe/London:20260108T223000
DTSTAMP:20260422T001343
CREATED:20251102T150755Z
LAST-MODIFIED:20251102T150755Z
UID:10001034-1767900600-1767911400@cops.org.uk
SUMMARY:Hobson's Choice
DESCRIPTION:
URL:https://cops.org.uk/event/hobsons-choice-9/
LOCATION:The Little Theatre\, 6 Christchurch Place\, Balfour Street\, Hertford\, Hertford\, SG14 3BB\, United Kingdom
CATEGORIES:Rehearsal
GEO:51.80002;-0.08556
X-APPLE-STRUCTURED-LOCATION;VALUE=URI;X-ADDRESS=The Little Theatre 6 Christchurch Place Balfour Street Hertford Hertford SG14 3BB United Kingdom;X-APPLE-RADIUS=500;X-TITLE=6 Christchurch Place\, Balfour Street:geo:-0.08556,51.80002
END:VEVENT
BEGIN:VEVENT
DTSTART;TZID=Europe/London:20260107T200000
DTEND;TZID=Europe/London:20260107T220000
DTSTAMP:20260422T001343
CREATED:20251102T150144Z
LAST-MODIFIED:20251102T150144Z
UID:10001033-1767816000-1767823200@cops.org.uk
SUMMARY:Hobson's Choice
DESCRIPTION:
URL:https://cops.org.uk/event/hobsons-choice-7/
LOCATION:The Little Theatre\, 6 Christchurch Place\, Balfour Street\, Hertford\, Hertford\, SG14 3BB\, United Kingdom
CATEGORIES:Rehearsal
GEO:51.80002;-0.08556
X-APPLE-STRUCTURED-LOCATION;VALUE=URI;X-ADDRESS=The Little Theatre 6 Christchurch Place Balfour Street Hertford Hertford SG14 3BB United Kingdom;X-APPLE-RADIUS=500;X-TITLE=6 Christchurch Place\, Balfour Street:geo:-0.08556,51.80002
END:VEVENT
BEGIN:VEVENT
DTSTART;TZID=Europe/London:20260104T153000
DTEND;TZID=Europe/London:20260104T180000
DTSTAMP:20260422T001343
CREATED:20251102T150019Z
LAST-MODIFIED:20251102T150019Z
UID:10001032-1767540600-1767549600@cops.org.uk
SUMMARY:Hobson's Choice
DESCRIPTION:
URL:https://cops.org.uk/event/hobsons-choice-6/
LOCATION:The Little Theatre\, 6 Christchurch Place\, Balfour Street\, Hertford\, Hertford\, SG14 3BB\, United Kingdom
CATEGORIES:Rehearsal
GEO:51.80002;-0.08556
X-APPLE-STRUCTURED-LOCATION;VALUE=URI;X-ADDRESS=The Little Theatre 6 Christchurch Place Balfour Street Hertford Hertford SG14 3BB United Kingdom;X-APPLE-RADIUS=500;X-TITLE=6 Christchurch Place\, Balfour Street:geo:-0.08556,51.80002
END:VEVENT
BEGIN:VEVENT
DTSTART;TZID=Europe/London:20260101T193000
DTEND;TZID=Europe/London:20260101T223000
DTSTAMP:20260422T001343
CREATED:20251102T145812Z
LAST-MODIFIED:20251102T145812Z
UID:10001031-1767295800-1767306600@cops.org.uk
SUMMARY:Hobson's Choice
DESCRIPTION:
URL:https://cops.org.uk/event/hobsons-choice-5/
LOCATION:The Little Theatre\, 6 Christchurch Place\, Balfour Street\, Hertford\, Hertford\, SG14 3BB\, United Kingdom
CATEGORIES:Rehearsal
GEO:51.80002;-0.08556
X-APPLE-STRUCTURED-LOCATION;VALUE=URI;X-ADDRESS=The Little Theatre 6 Christchurch Place Balfour Street Hertford Hertford SG14 3BB United Kingdom;X-APPLE-RADIUS=500;X-TITLE=6 Christchurch Place\, Balfour Street:geo:-0.08556,51.80002
END:VEVENT
BEGIN:VEVENT
DTSTART;TZID=Europe/London:20251230T193000
DTEND;TZID=Europe/London:20251230T223000
DTSTAMP:20260422T001343
CREATED:20251102T145254Z
LAST-MODIFIED:20251102T145254Z
UID:10001029-1767123000-1767133800@cops.org.uk
SUMMARY:Hobson's Choice
DESCRIPTION:
URL:https://cops.org.uk/event/hobsons-choice-3/
LOCATION:The Little Theatre\, 6 Christchurch Place\, Balfour Street\, Hertford\, Hertford\, SG14 3BB\, United Kingdom
CATEGORIES:Rehearsal
GEO:51.80002;-0.08556
X-APPLE-STRUCTURED-LOCATION;VALUE=URI;X-ADDRESS=The Little Theatre 6 Christchurch Place Balfour Street Hertford Hertford SG14 3BB United Kingdom;X-APPLE-RADIUS=500;X-TITLE=6 Christchurch Place\, Balfour Street:geo:-0.08556,51.80002
END:VEVENT
BEGIN:VEVENT
DTSTART;TZID=Europe/London:20251228T193000
DTEND;TZID=Europe/London:20251228T223000
DTSTAMP:20260422T001343
CREATED:20251102T145555Z
LAST-MODIFIED:20251102T145555Z
UID:10001030-1766950200-1766961000@cops.org.uk
SUMMARY:Hobson's Choice
DESCRIPTION:
URL:https://cops.org.uk/event/hobsons-choice-4/
LOCATION:The Little Theatre\, 6 Christchurch Place\, Balfour Street\, Hertford\, Hertford\, SG14 3BB\, United Kingdom
CATEGORIES:Rehearsal
GEO:51.80002;-0.08556
X-APPLE-STRUCTURED-LOCATION;VALUE=URI;X-ADDRESS=The Little Theatre 6 Christchurch Place Balfour Street Hertford Hertford SG14 3BB United Kingdom;X-APPLE-RADIUS=500;X-TITLE=6 Christchurch Place\, Balfour Street:geo:-0.08556,51.80002
END:VEVENT
BEGIN:VEVENT
DTSTART;TZID=Europe/London:20251217T193000
DTEND;TZID=Europe/London:20251217T220000
DTSTAMP:20260422T001343
CREATED:20251103T103845Z
LAST-MODIFIED:20251103T103845Z
UID:10001057-1765999800-1766008800@cops.org.uk
SUMMARY:Committee meeting
DESCRIPTION:
URL:https://cops.org.uk/event/committee-meeting-10/
LOCATION:The Little Theatre\, 6 Christchurch Place\, Balfour Street\, Hertford\, Hertford\, SG14 3BB\, United Kingdom
CATEGORIES:Meeting
GEO:51.80002;-0.08556
X-APPLE-STRUCTURED-LOCATION;VALUE=URI;X-ADDRESS=The Little Theatre 6 Christchurch Place Balfour Street Hertford Hertford SG14 3BB United Kingdom;X-APPLE-RADIUS=500;X-TITLE=6 Christchurch Place\, Balfour Street:geo:-0.08556,51.80002
END:VEVENT
BEGIN:VEVENT
DTSTART;TZID=Europe/London:20251214T100000
DTEND;TZID=Europe/London:20251214T120000
DTSTAMP:20260422T001343
CREATED:20250427T153235Z
LAST-MODIFIED:20250427T153235Z
UID:10000867-1765706400-1765713600@cops.org.uk
SUMMARY:And then there were none  strike
DESCRIPTION:
URL:https://cops.org.uk/event/and-then-there-were-none-strike/
LOCATION:The Little Theatre\, 6 Christchurch Place\, Balfour Street\, Hertford\, Hertford\, SG14 3BB\, United Kingdom
CATEGORIES:Club Admin
GEO:51.80002;-0.08556
X-APPLE-STRUCTURED-LOCATION;VALUE=URI;X-ADDRESS=The Little Theatre 6 Christchurch Place Balfour Street Hertford Hertford SG14 3BB United Kingdom;X-APPLE-RADIUS=500;X-TITLE=6 Christchurch Place\, Balfour Street:geo:-0.08556,51.80002
END:VEVENT
BEGIN:VEVENT
DTSTART;TZID=Europe/London:20251214T080000
DTEND;TZID=Europe/London:20251214T123000
DTSTAMP:20260422T001343
CREATED:20251001T135606Z
LAST-MODIFIED:20251001T135606Z
UID:10001020-1765699200-1765715400@cops.org.uk
SUMMARY:And Then There Were None - Get Out
DESCRIPTION:
URL:https://cops.org.uk/event/and-then-there-were-none-get-out/
LOCATION:The Little Theatre\, 6 Christchurch Place\, Balfour Street\, Hertford\, Hertford\, SG14 3BB\, United Kingdom
GEO:51.80002;-0.08556
X-APPLE-STRUCTURED-LOCATION;VALUE=URI;X-ADDRESS=The Little Theatre 6 Christchurch Place Balfour Street Hertford Hertford SG14 3BB United Kingdom;X-APPLE-RADIUS=500;X-TITLE=6 Christchurch Place\, Balfour Street:geo:-0.08556,51.80002
END:VEVENT
BEGIN:VEVENT
DTSTART;TZID=Europe/London:20251213T180000
DTEND;TZID=Europe/London:20251213T223000
DTSTAMP:20260422T001343
CREATED:20250427T153122Z
LAST-MODIFIED:20250427T153122Z
UID:10000866-1765648800-1765665000@cops.org.uk
SUMMARY:And then there were none
DESCRIPTION:
URL:https://cops.org.uk/event/and-then-there-were-none-11/
LOCATION:The Little Theatre\, 6 Christchurch Place\, Balfour Street\, Hertford\, Hertford\, SG14 3BB\, United Kingdom
CATEGORIES:Performance
GEO:51.80002;-0.08556
X-APPLE-STRUCTURED-LOCATION;VALUE=URI;X-ADDRESS=The Little Theatre 6 Christchurch Place Balfour Street Hertford Hertford SG14 3BB United Kingdom;X-APPLE-RADIUS=500;X-TITLE=6 Christchurch Place\, Balfour Street:geo:-0.08556,51.80002
END:VEVENT
BEGIN:VEVENT
DTSTART;TZID=Europe/London:20251213T133000
DTEND;TZID=Europe/London:20251213T223000
DTSTAMP:20260422T001343
CREATED:20251001T135512Z
LAST-MODIFIED:20251125T100030Z
UID:10001019-1765632600-1765665000@cops.org.uk
SUMMARY:And Then There Were None - Performance
DESCRIPTION:
URL:https://cops.org.uk/event/and-then-there-were-none-performance-9/
LOCATION:The Little Theatre\, 6 Christchurch Place\, Balfour Street\, Hertford\, Hertford\, SG14 3BB\, United Kingdom
CATEGORIES:Performance
GEO:51.80002;-0.08556
X-APPLE-STRUCTURED-LOCATION;VALUE=URI;X-ADDRESS=The Little Theatre 6 Christchurch Place Balfour Street Hertford Hertford SG14 3BB United Kingdom;X-APPLE-RADIUS=500;X-TITLE=6 Christchurch Place\, Balfour Street:geo:-0.08556,51.80002
END:VEVENT
BEGIN:VEVENT
DTSTART;TZID=Europe/London:20251212T193000
DTEND;TZID=Europe/London:20251212T223000
DTSTAMP:20260422T001343
CREATED:20251001T135428Z
LAST-MODIFIED:20251125T100030Z
UID:10001018-1765567800-1765578600@cops.org.uk
SUMMARY:And Then There Were None - Performance
DESCRIPTION:
URL:https://cops.org.uk/event/and-then-there-were-none-performance-8/
LOCATION:The Little Theatre\, 6 Christchurch Place\, Balfour Street\, Hertford\, Hertford\, SG14 3BB\, United Kingdom
CATEGORIES:Performance
GEO:51.80002;-0.08556
X-APPLE-STRUCTURED-LOCATION;VALUE=URI;X-ADDRESS=The Little Theatre 6 Christchurch Place Balfour Street Hertford Hertford SG14 3BB United Kingdom;X-APPLE-RADIUS=500;X-TITLE=6 Christchurch Place\, Balfour Street:geo:-0.08556,51.80002
END:VEVENT
BEGIN:VEVENT
DTSTART;TZID=Europe/London:20251212T180000
DTEND;TZID=Europe/London:20251212T223000
DTSTAMP:20260422T001343
CREATED:20250427T153013Z
LAST-MODIFIED:20250427T153013Z
UID:10000865-1765562400-1765578600@cops.org.uk
SUMMARY:And then there were none
DESCRIPTION:
URL:https://cops.org.uk/event/and-then-there-were-none-10/
LOCATION:The Little Theatre\, 6 Christchurch Place\, Balfour Street\, Hertford\, Hertford\, SG14 3BB\, United Kingdom
CATEGORIES:Performance
GEO:51.80002;-0.08556
X-APPLE-STRUCTURED-LOCATION;VALUE=URI;X-ADDRESS=The Little Theatre 6 Christchurch Place Balfour Street Hertford Hertford SG14 3BB United Kingdom;X-APPLE-RADIUS=500;X-TITLE=6 Christchurch Place\, Balfour Street:geo:-0.08556,51.80002
END:VEVENT
BEGIN:VEVENT
DTSTART;TZID=Europe/London:20251211T183000
DTEND;TZID=Europe/London:20251211T223000
DTSTAMP:20260422T001343
CREATED:20251001T135345Z
LAST-MODIFIED:20251125T100030Z
UID:10001017-1765477800-1765492200@cops.org.uk
SUMMARY:And Then There Were None - Performance
DESCRIPTION:
URL:https://cops.org.uk/event/and-then-there-were-none-performance-7/
LOCATION:The Little Theatre\, 6 Christchurch Place\, Balfour Street\, Hertford\, Hertford\, SG14 3BB\, United Kingdom
CATEGORIES:Performance
GEO:51.80002;-0.08556
X-APPLE-STRUCTURED-LOCATION;VALUE=URI;X-ADDRESS=The Little Theatre 6 Christchurch Place Balfour Street Hertford Hertford SG14 3BB United Kingdom;X-APPLE-RADIUS=500;X-TITLE=6 Christchurch Place\, Balfour Street:geo:-0.08556,51.80002
END:VEVENT
BEGIN:VEVENT
DTSTART;TZID=Europe/London:20251211T180000
DTEND;TZID=Europe/London:20251211T223000
DTSTAMP:20260422T001343
CREATED:20250427T152905Z
LAST-MODIFIED:20250427T152905Z
UID:10000864-1765476000-1765492200@cops.org.uk
SUMMARY:And then there were none
DESCRIPTION:
URL:https://cops.org.uk/event/and-then-there-were-none-9/
LOCATION:The Little Theatre\, 6 Christchurch Place\, Balfour Street\, Hertford\, Hertford\, SG14 3BB\, United Kingdom
CATEGORIES:Performance
GEO:51.80002;-0.08556
X-APPLE-STRUCTURED-LOCATION;VALUE=URI;X-ADDRESS=The Little Theatre 6 Christchurch Place Balfour Street Hertford Hertford SG14 3BB United Kingdom;X-APPLE-RADIUS=500;X-TITLE=6 Christchurch Place\, Balfour Street:geo:-0.08556,51.80002
END:VEVENT
BEGIN:VEVENT
DTSTART;TZID=Europe/London:20251210T183000
DTEND;TZID=Europe/London:20251210T223000
DTSTAMP:20260422T001343
CREATED:20251001T135304Z
LAST-MODIFIED:20251125T100030Z
UID:10001016-1765391400-1765405800@cops.org.uk
SUMMARY:And Then There Were None - Performance
DESCRIPTION:
URL:https://cops.org.uk/event/and-then-there-were-none-performance-6/
LOCATION:The Little Theatre\, 6 Christchurch Place\, Balfour Street\, Hertford\, Hertford\, SG14 3BB\, United Kingdom
CATEGORIES:Performance
GEO:51.80002;-0.08556
X-APPLE-STRUCTURED-LOCATION;VALUE=URI;X-ADDRESS=The Little Theatre 6 Christchurch Place Balfour Street Hertford Hertford SG14 3BB United Kingdom;X-APPLE-RADIUS=500;X-TITLE=6 Christchurch Place\, Balfour Street:geo:-0.08556,51.80002
END:VEVENT
BEGIN:VEVENT
DTSTART;TZID=Europe/London:20251210T180000
DTEND;TZID=Europe/London:20251210T223000
DTSTAMP:20260422T001343
CREATED:20250427T152758Z
LAST-MODIFIED:20250427T152758Z
UID:10000863-1765389600-1765405800@cops.org.uk
SUMMARY:And then there were none
DESCRIPTION:
URL:https://cops.org.uk/event/and-then-there-were-none-8/
LOCATION:The Little Theatre\, 6 Christchurch Place\, Balfour Street\, Hertford\, Hertford\, SG14 3BB\, United Kingdom
CATEGORIES:Performance
GEO:51.80002;-0.08556
X-APPLE-STRUCTURED-LOCATION;VALUE=URI;X-ADDRESS=The Little Theatre 6 Christchurch Place Balfour Street Hertford Hertford SG14 3BB United Kingdom;X-APPLE-RADIUS=500;X-TITLE=6 Christchurch Place\, Balfour Street:geo:-0.08556,51.80002
END:VEVENT
BEGIN:VEVENT
DTSTART;TZID=Europe/London:20251209T183000
DTEND;TZID=Europe/London:20251209T223000
DTSTAMP:20260422T001343
CREATED:20251001T135222Z
LAST-MODIFIED:20251125T100030Z
UID:10001015-1765305000-1765319400@cops.org.uk
SUMMARY:And Then There Were None - Performance
DESCRIPTION:
URL:https://cops.org.uk/event/and-then-there-were-none-performance-5/
LOCATION:The Little Theatre\, 6 Christchurch Place\, Balfour Street\, Hertford\, Hertford\, SG14 3BB\, United Kingdom
CATEGORIES:Performance
GEO:51.80002;-0.08556
X-APPLE-STRUCTURED-LOCATION;VALUE=URI;X-ADDRESS=The Little Theatre 6 Christchurch Place Balfour Street Hertford Hertford SG14 3BB United Kingdom;X-APPLE-RADIUS=500;X-TITLE=6 Christchurch Place\, Balfour Street:geo:-0.08556,51.80002
END:VEVENT
BEGIN:VEVENT
DTSTART;TZID=Europe/London:20251209T180000
DTEND;TZID=Europe/London:20251209T223000
DTSTAMP:20260422T001343
CREATED:20250427T152659Z
LAST-MODIFIED:20250427T152659Z
UID:10000862-1765303200-1765319400@cops.org.uk
SUMMARY:And then there were none
DESCRIPTION:
URL:https://cops.org.uk/event/and-then-there-were-none-7/
LOCATION:The Little Theatre\, 6 Christchurch Place\, Balfour Street\, Hertford\, Hertford\, SG14 3BB\, United Kingdom
CATEGORIES:Performance
GEO:51.80002;-0.08556
X-APPLE-STRUCTURED-LOCATION;VALUE=URI;X-ADDRESS=The Little Theatre 6 Christchurch Place Balfour Street Hertford Hertford SG14 3BB United Kingdom;X-APPLE-RADIUS=500;X-TITLE=6 Christchurch Place\, Balfour Street:geo:-0.08556,51.80002
END:VEVENT
BEGIN:VEVENT
DTSTART;TZID=Europe/London:20251208T183000
DTEND;TZID=Europe/London:20251208T223000
DTSTAMP:20260422T001343
CREATED:20251001T135148Z
LAST-MODIFIED:20251125T100030Z
UID:10001014-1765218600-1765233000@cops.org.uk
SUMMARY:And Then There Were None - Performance
DESCRIPTION:
URL:https://cops.org.uk/event/and-then-there-were-none-performance-4/
LOCATION:The Little Theatre\, 6 Christchurch Place\, Balfour Street\, Hertford\, Hertford\, SG14 3BB\, United Kingdom
CATEGORIES:Performance
GEO:51.80002;-0.08556
X-APPLE-STRUCTURED-LOCATION;VALUE=URI;X-ADDRESS=The Little Theatre 6 Christchurch Place Balfour Street Hertford Hertford SG14 3BB United Kingdom;X-APPLE-RADIUS=500;X-TITLE=6 Christchurch Place\, Balfour Street:geo:-0.08556,51.80002
END:VEVENT
BEGIN:VEVENT
DTSTART;TZID=Europe/London:20251208T180000
DTEND;TZID=Europe/London:20251208T223000
DTSTAMP:20260422T001343
CREATED:20250427T152545Z
LAST-MODIFIED:20250427T152545Z
UID:10000861-1765216800-1765233000@cops.org.uk
SUMMARY:And then there were none
DESCRIPTION:
URL:https://cops.org.uk/event/and-then-there-were-none-6/
LOCATION:The Little Theatre\, 6 Christchurch Place\, Balfour Street\, Hertford\, Hertford\, SG14 3BB\, United Kingdom
GEO:51.80002;-0.08556
X-APPLE-STRUCTURED-LOCATION;VALUE=URI;X-ADDRESS=The Little Theatre 6 Christchurch Place Balfour Street Hertford Hertford SG14 3BB United Kingdom;X-APPLE-RADIUS=500;X-TITLE=6 Christchurch Place\, Balfour Street:geo:-0.08556,51.80002
END:VEVENT
BEGIN:VEVENT
DTSTART;TZID=Europe/London:20251206T183000
DTEND;TZID=Europe/London:20251206T223000
DTSTAMP:20260422T001343
CREATED:20251001T135110Z
LAST-MODIFIED:20251125T100030Z
UID:10001013-1765045800-1765060200@cops.org.uk
SUMMARY:And Then There Were None - Performance
DESCRIPTION:
URL:https://cops.org.uk/event/and-then-there-were-none-performance-3/
LOCATION:The Little Theatre\, 6 Christchurch Place\, Balfour Street\, Hertford\, Hertford\, SG14 3BB\, United Kingdom
CATEGORIES:Performance
GEO:51.80002;-0.08556
X-APPLE-STRUCTURED-LOCATION;VALUE=URI;X-ADDRESS=The Little Theatre 6 Christchurch Place Balfour Street Hertford Hertford SG14 3BB United Kingdom;X-APPLE-RADIUS=500;X-TITLE=6 Christchurch Place\, Balfour Street:geo:-0.08556,51.80002
END:VEVENT
BEGIN:VEVENT
DTSTART;TZID=Europe/London:20251206T133000
DTEND;TZID=Europe/London:20251206T170000
DTSTAMP:20260422T001343
CREATED:20251001T135034Z
LAST-MODIFIED:20251125T100030Z
UID:10001012-1765027800-1765040400@cops.org.uk
SUMMARY:And Then There Were None - Performance
DESCRIPTION:
URL:https://cops.org.uk/event/and-then-there-were-none-performance-2/
LOCATION:The Little Theatre\, 6 Christchurch Place\, Balfour Street\, Hertford\, Hertford\, SG14 3BB\, United Kingdom
CATEGORIES:Performance
GEO:51.80002;-0.08556
X-APPLE-STRUCTURED-LOCATION;VALUE=URI;X-ADDRESS=The Little Theatre 6 Christchurch Place Balfour Street Hertford Hertford SG14 3BB United Kingdom;X-APPLE-RADIUS=500;X-TITLE=6 Christchurch Place\, Balfour Street:geo:-0.08556,51.80002
END:VEVENT
BEGIN:VEVENT
DTSTART;TZID=Europe/London:20251206T120000
DTEND;TZID=Europe/London:20251206T223000
DTSTAMP:20260422T001343
CREATED:20250427T152258Z
LAST-MODIFIED:20250427T152258Z
UID:10000860-1765022400-1765060200@cops.org.uk
SUMMARY:And then there were none Matinee and evening performances
DESCRIPTION:
URL:https://cops.org.uk/event/and-then-there-were-none-matinee-and-evening-performances/
LOCATION:The Little Theatre\, 6 Christchurch Place\, Balfour Street\, Hertford\, Hertford\, SG14 3BB\, United Kingdom
CATEGORIES:Performance
GEO:51.80002;-0.08556
X-APPLE-STRUCTURED-LOCATION;VALUE=URI;X-ADDRESS=The Little Theatre 6 Christchurch Place Balfour Street Hertford Hertford SG14 3BB United Kingdom;X-APPLE-RADIUS=500;X-TITLE=6 Christchurch Place\, Balfour Street:geo:-0.08556,51.80002
END:VEVENT
BEGIN:VEVENT
DTSTART;TZID=Europe/London:20251205T183000
DTEND;TZID=Europe/London:20251205T223000
DTSTAMP:20260422T001343
CREATED:20251001T134952Z
LAST-MODIFIED:20251125T100030Z
UID:10001011-1764959400-1764973800@cops.org.uk
SUMMARY:And Then There Were None - Performance
DESCRIPTION:
URL:https://cops.org.uk/event/and-then-there-were-none-performance/
LOCATION:The Little Theatre\, 6 Christchurch Place\, Balfour Street\, Hertford\, Hertford\, SG14 3BB\, United Kingdom
CATEGORIES:Performance
GEO:51.80002;-0.08556
X-APPLE-STRUCTURED-LOCATION;VALUE=URI;X-ADDRESS=The Little Theatre 6 Christchurch Place Balfour Street Hertford Hertford SG14 3BB United Kingdom;X-APPLE-RADIUS=500;X-TITLE=6 Christchurch Place\, Balfour Street:geo:-0.08556,51.80002
END:VEVENT
BEGIN:VEVENT
DTSTART;TZID=Europe/London:20251205T180000
DTEND;TZID=Europe/London:20251205T223000
DTSTAMP:20260422T001343
CREATED:20250427T152104Z
LAST-MODIFIED:20250427T152104Z
UID:10000859-1764957600-1764973800@cops.org.uk
SUMMARY:And then there were none
DESCRIPTION:
URL:https://cops.org.uk/event/and-then-there-were-none-5/
LOCATION:The Little Theatre\, 6 Christchurch Place\, Balfour Street\, Hertford\, Hertford\, SG14 3BB\, United Kingdom
CATEGORIES:Performance
GEO:51.80002;-0.08556
X-APPLE-STRUCTURED-LOCATION;VALUE=URI;X-ADDRESS=The Little Theatre 6 Christchurch Place Balfour Street Hertford Hertford SG14 3BB United Kingdom;X-APPLE-RADIUS=500;X-TITLE=6 Christchurch Place\, Balfour Street:geo:-0.08556,51.80002
END:VEVENT
BEGIN:VEVENT
DTSTART;TZID=Europe/London:20251204T183000
DTEND;TZID=Europe/London:20251204T223000
DTSTAMP:20260422T001343
CREATED:20251001T134848Z
LAST-MODIFIED:20251125T095940Z
UID:10001010-1764873000-1764887400@cops.org.uk
SUMMARY:And Then There Were None - Rehearsal
DESCRIPTION:
URL:https://cops.org.uk/event/and-then-there-were-none-rehearsal-25/
LOCATION:The Little Theatre\, 6 Christchurch Place\, Balfour Street\, Hertford\, Hertford\, SG14 3BB\, United Kingdom
CATEGORIES:Rehearsal
GEO:51.80002;-0.08556
X-APPLE-STRUCTURED-LOCATION;VALUE=URI;X-ADDRESS=The Little Theatre 6 Christchurch Place Balfour Street Hertford Hertford SG14 3BB United Kingdom;X-APPLE-RADIUS=500;X-TITLE=6 Christchurch Place\, Balfour Street:geo:-0.08556,51.80002
END:VEVENT
BEGIN:VEVENT
DTSTART;TZID=Europe/London:20251204T180000
DTEND;TZID=Europe/London:20251204T223000
DTSTAMP:20260422T001343
CREATED:20250427T151929Z
LAST-MODIFIED:20250427T151929Z
UID:10000858-1764871200-1764887400@cops.org.uk
SUMMARY:And then there were none Dress rehearsal
DESCRIPTION:
URL:https://cops.org.uk/event/and-then-there-were-none-dress-rehearsal/
LOCATION:The Little Theatre\, 6 Christchurch Place\, Balfour Street\, Hertford\, Hertford\, SG14 3BB\, United Kingdom
CATEGORIES:Rehearsal
GEO:51.80002;-0.08556
X-APPLE-STRUCTURED-LOCATION;VALUE=URI;X-ADDRESS=The Little Theatre 6 Christchurch Place Balfour Street Hertford Hertford SG14 3BB United Kingdom;X-APPLE-RADIUS=500;X-TITLE=6 Christchurch Place\, Balfour Street:geo:-0.08556,51.80002
END:VEVENT
END:VCALENDAR