BEGIN:VCALENDAR
VERSION:2.0
PRODID:-//The Company of Players (Hertford) - ECPv6.15.20//NONSGML v1.0//EN
CALSCALE:GREGORIAN
METHOD:PUBLISH
X-ORIGINAL-URL:https://cops.org.uk
X-WR-CALDESC:Events for The Company of Players (Hertford)
REFRESH-INTERVAL;VALUE=DURATION:PT1H
X-Robots-Tag:noindex
X-PUBLISHED-TTL:PT1H
BEGIN:VTIMEZONE
TZID:Europe/London
BEGIN:DAYLIGHT
TZOFFSETFROM:+0000
TZOFFSETTO:+0100
TZNAME:BST
DTSTART:20240331T010000
END:DAYLIGHT
BEGIN:STANDARD
TZOFFSETFROM:+0100
TZOFFSETTO:+0000
TZNAME:GMT
DTSTART:20241027T010000
END:STANDARD
BEGIN:DAYLIGHT
TZOFFSETFROM:+0000
TZOFFSETTO:+0100
TZNAME:BST
DTSTART:20250330T010000
END:DAYLIGHT
BEGIN:STANDARD
TZOFFSETFROM:+0100
TZOFFSETTO:+0000
TZNAME:GMT
DTSTART:20251026T010000
END:STANDARD
BEGIN:DAYLIGHT
TZOFFSETFROM:+0000
TZOFFSETTO:+0100
TZNAME:BST
DTSTART:20260329T010000
END:DAYLIGHT
BEGIN:STANDARD
TZOFFSETFROM:+0100
TZOFFSETTO:+0000
TZNAME:GMT
DTSTART:20261025T010000
END:STANDARD
BEGIN:DAYLIGHT
TZOFFSETFROM:+0000
TZOFFSETTO:+0100
TZNAME:BST
DTSTART:20270328T010000
END:DAYLIGHT
BEGIN:STANDARD
TZOFFSETFROM:+0100
TZOFFSETTO:+0000
TZNAME:GMT
DTSTART:20271031T010000
END:STANDARD
END:VTIMEZONE
BEGIN:VEVENT
DTSTART;TZID=Europe/London:20260207T100000
DTEND;TZID=Europe/London:20260207T220000
DTSTAMP:20260421T205555
CREATED:20250807T133251Z
LAST-MODIFIED:20250807T133251Z
UID:10000931-1770458400-1770501600@cops.org.uk
SUMMARY:Reserved for Hobson's Choice Rehearsal/Tech
DESCRIPTION:
URL:https://cops.org.uk/event/reserved-for-hobsons-choice-rehearsal-tech/
LOCATION:The Little Theatre\, 6 Christchurch Place\, Balfour Street\, Hertford\, Hertford\, SG14 3BB\, United Kingdom
GEO:51.80002;-0.08556
X-APPLE-STRUCTURED-LOCATION;VALUE=URI;X-ADDRESS=The Little Theatre 6 Christchurch Place Balfour Street Hertford Hertford SG14 3BB United Kingdom;X-APPLE-RADIUS=500;X-TITLE=6 Christchurch Place\, Balfour Street:geo:-0.08556,51.80002
END:VEVENT
BEGIN:VEVENT
DTSTART;TZID=Europe/London:20260207T100000
DTEND;TZID=Europe/London:20260207T123000
DTSTAMP:20260421T205555
CREATED:20251102T155047Z
LAST-MODIFIED:20251102T155047Z
UID:10001051-1770458400-1770467400@cops.org.uk
SUMMARY:Hobson's Choice
DESCRIPTION:
URL:https://cops.org.uk/event/hobsons-choice-26/
LOCATION:The Little Theatre\, 6 Christchurch Place\, Balfour Street\, Hertford\, Hertford\, SG14 3BB\, United Kingdom
CATEGORIES:Rehearsal
GEO:51.80002;-0.08556
X-APPLE-STRUCTURED-LOCATION;VALUE=URI;X-ADDRESS=The Little Theatre 6 Christchurch Place Balfour Street Hertford Hertford SG14 3BB United Kingdom;X-APPLE-RADIUS=500;X-TITLE=6 Christchurch Place\, Balfour Street:geo:-0.08556,51.80002
END:VEVENT
BEGIN:VEVENT
DTSTART;TZID=Europe/London:20260206T193000
DTEND;TZID=Europe/London:20260206T223000
DTSTAMP:20260421T205555
CREATED:20251102T154910Z
LAST-MODIFIED:20251102T154910Z
UID:10001050-1770406200-1770417000@cops.org.uk
SUMMARY:Hobson's Choice
DESCRIPTION:
URL:https://cops.org.uk/event/hobsons-choice-25/
LOCATION:The Little Theatre\, 6 Christchurch Place\, Balfour Street\, Hertford\, Hertford\, SG14 3BB\, United Kingdom
CATEGORIES:Rehearsal
GEO:51.80002;-0.08556
X-APPLE-STRUCTURED-LOCATION;VALUE=URI;X-ADDRESS=The Little Theatre 6 Christchurch Place Balfour Street Hertford Hertford SG14 3BB United Kingdom;X-APPLE-RADIUS=500;X-TITLE=6 Christchurch Place\, Balfour Street:geo:-0.08556,51.80002
END:VEVENT
BEGIN:VEVENT
DTSTART;TZID=Europe/London:20260205T193000
DTEND;TZID=Europe/London:20260205T223000
DTSTAMP:20260421T205555
CREATED:20251102T154737Z
LAST-MODIFIED:20251102T154737Z
UID:10001049-1770319800-1770330600@cops.org.uk
SUMMARY:Hobson's Choice
DESCRIPTION:
URL:https://cops.org.uk/event/hobsons-choice-24/
LOCATION:The Little Theatre\, 6 Christchurch Place\, Balfour Street\, Hertford\, Hertford\, SG14 3BB\, United Kingdom
CATEGORIES:Rehearsal
GEO:51.80002;-0.08556
X-APPLE-STRUCTURED-LOCATION;VALUE=URI;X-ADDRESS=The Little Theatre 6 Christchurch Place Balfour Street Hertford Hertford SG14 3BB United Kingdom;X-APPLE-RADIUS=500;X-TITLE=6 Christchurch Place\, Balfour Street:geo:-0.08556,51.80002
END:VEVENT
BEGIN:VEVENT
DTSTART;TZID=Europe/London:20260204T193000
DTEND;TZID=Europe/London:20260204T223000
DTSTAMP:20260421T205555
CREATED:20251102T154606Z
LAST-MODIFIED:20251102T154606Z
UID:10001048-1770233400-1770244200@cops.org.uk
SUMMARY:Hobson's Choice
DESCRIPTION:
URL:https://cops.org.uk/event/hobsons-choice-23/
LOCATION:The Little Theatre\, 6 Christchurch Place\, Balfour Street\, Hertford\, Hertford\, SG14 3BB\, United Kingdom
CATEGORIES:Rehearsal
GEO:51.80002;-0.08556
X-APPLE-STRUCTURED-LOCATION;VALUE=URI;X-ADDRESS=The Little Theatre 6 Christchurch Place Balfour Street Hertford Hertford SG14 3BB United Kingdom;X-APPLE-RADIUS=500;X-TITLE=6 Christchurch Place\, Balfour Street:geo:-0.08556,51.80002
END:VEVENT
BEGIN:VEVENT
DTSTART;TZID=Europe/London:20260201T140000
DTEND;TZID=Europe/London:20260201T170000
DTSTAMP:20260421T205555
CREATED:20251102T154426Z
LAST-MODIFIED:20251102T154426Z
UID:10001047-1769954400-1769965200@cops.org.uk
SUMMARY:Hobson's Choice
DESCRIPTION:
URL:https://cops.org.uk/event/hobsons-choice-22/
LOCATION:The Little Theatre\, 6 Christchurch Place\, Balfour Street\, Hertford\, Hertford\, SG14 3BB\, United Kingdom
CATEGORIES:Rehearsal
GEO:51.80002;-0.08556
X-APPLE-STRUCTURED-LOCATION;VALUE=URI;X-ADDRESS=The Little Theatre 6 Christchurch Place Balfour Street Hertford Hertford SG14 3BB United Kingdom;X-APPLE-RADIUS=500;X-TITLE=6 Christchurch Place\, Balfour Street:geo:-0.08556,51.80002
END:VEVENT
BEGIN:VEVENT
DTSTART;TZID=Europe/London:20260130T193000
DTEND;TZID=Europe/London:20260130T223000
DTSTAMP:20260421T205555
CREATED:20251102T154220Z
LAST-MODIFIED:20251102T154220Z
UID:10001046-1769801400-1769812200@cops.org.uk
SUMMARY:Hobson's Choice
DESCRIPTION:
URL:https://cops.org.uk/event/hobsons-choice-21/
LOCATION:The Little Theatre\, 6 Christchurch Place\, Balfour Street\, Hertford\, Hertford\, SG14 3BB\, United Kingdom
CATEGORIES:Rehearsal
GEO:51.80002;-0.08556
X-APPLE-STRUCTURED-LOCATION;VALUE=URI;X-ADDRESS=The Little Theatre 6 Christchurch Place Balfour Street Hertford Hertford SG14 3BB United Kingdom;X-APPLE-RADIUS=500;X-TITLE=6 Christchurch Place\, Balfour Street:geo:-0.08556,51.80002
END:VEVENT
BEGIN:VEVENT
DTSTART;TZID=Europe/London:20260129T193000
DTEND;TZID=Europe/London:20260129T223000
DTSTAMP:20260421T205555
CREATED:20251102T154011Z
LAST-MODIFIED:20251102T154011Z
UID:10001045-1769715000-1769725800@cops.org.uk
SUMMARY:Hobson's Choice
DESCRIPTION:
URL:https://cops.org.uk/event/hobsons-choice-20/
LOCATION:The Little Theatre\, 6 Christchurch Place\, Balfour Street\, Hertford\, Hertford\, SG14 3BB\, United Kingdom
CATEGORIES:Rehearsal
GEO:51.80002;-0.08556
X-APPLE-STRUCTURED-LOCATION;VALUE=URI;X-ADDRESS=The Little Theatre 6 Christchurch Place Balfour Street Hertford Hertford SG14 3BB United Kingdom;X-APPLE-RADIUS=500;X-TITLE=6 Christchurch Place\, Balfour Street:geo:-0.08556,51.80002
END:VEVENT
BEGIN:VEVENT
DTSTART;TZID=Europe/London:20260128T193000
DTEND;TZID=Europe/London:20260128T223000
DTSTAMP:20260421T205555
CREATED:20251102T152344Z
LAST-MODIFIED:20251102T152344Z
UID:10001044-1769628600-1769639400@cops.org.uk
SUMMARY:Hobson's Choice
DESCRIPTION:
URL:https://cops.org.uk/event/hobsons-choice-19/
LOCATION:The Little Theatre\, 6 Christchurch Place\, Balfour Street\, Hertford\, Hertford\, SG14 3BB\, United Kingdom
CATEGORIES:Rehearsal
GEO:51.80002;-0.08556
X-APPLE-STRUCTURED-LOCATION;VALUE=URI;X-ADDRESS=The Little Theatre 6 Christchurch Place Balfour Street Hertford Hertford SG14 3BB United Kingdom;X-APPLE-RADIUS=500;X-TITLE=6 Christchurch Place\, Balfour Street:geo:-0.08556,51.80002
END:VEVENT
BEGIN:VEVENT
DTSTART;TZID=Europe/London:20260127T120000
DTEND;TZID=Europe/London:20260127T140000
DTSTAMP:20260421T205555
CREATED:20260122T114635Z
LAST-MODIFIED:20260122T114818Z
UID:10001114-1769515200-1769522400@cops.org.uk
SUMMARY:Fire Extinguisher Inspection
DESCRIPTION:
URL:https://cops.org.uk/event/fire-extinghuisher-inspection/
LOCATION:The Little Theatre\, 6 Christchurch Place\, Balfour Street\, Hertford\, Hertford\, SG14 3BB\, United Kingdom
GEO:51.80002;-0.08556
X-APPLE-STRUCTURED-LOCATION;VALUE=URI;X-ADDRESS=The Little Theatre 6 Christchurch Place Balfour Street Hertford Hertford SG14 3BB United Kingdom;X-APPLE-RADIUS=500;X-TITLE=6 Christchurch Place\, Balfour Street:geo:-0.08556,51.80002
END:VEVENT
BEGIN:VEVENT
DTSTART;TZID=Europe/London:20260127T090000
DTEND;TZID=Europe/London:20260127T170000
DTSTAMP:20260421T205555
CREATED:20260122T114534Z
LAST-MODIFIED:20260122T114534Z
UID:10001113-1769504400-1769533200@cops.org.uk
SUMMARY:Drain Survey
DESCRIPTION:
URL:https://cops.org.uk/event/drain-survey/
LOCATION:The Little Theatre\, 6 Christchurch Place\, Balfour Street\, Hertford\, Hertford\, SG14 3BB\, United Kingdom
GEO:51.80002;-0.08556
X-APPLE-STRUCTURED-LOCATION;VALUE=URI;X-ADDRESS=The Little Theatre 6 Christchurch Place Balfour Street Hertford Hertford SG14 3BB United Kingdom;X-APPLE-RADIUS=500;X-TITLE=6 Christchurch Place\, Balfour Street:geo:-0.08556,51.80002
END:VEVENT
BEGIN:VEVENT
DTSTART;TZID=Europe/London:20260125T150000
DTEND;TZID=Europe/London:20260125T180000
DTSTAMP:20260421T205555
CREATED:20251102T152220Z
LAST-MODIFIED:20251102T152220Z
UID:10001043-1769353200-1769364000@cops.org.uk
SUMMARY:Hobson's Choice
DESCRIPTION:
URL:https://cops.org.uk/event/hobsons-choice-18/
LOCATION:The Little Theatre\, 6 Christchurch Place\, Balfour Street\, Hertford\, Hertford\, SG14 3BB\, United Kingdom
CATEGORIES:Rehearsal
GEO:51.80002;-0.08556
X-APPLE-STRUCTURED-LOCATION;VALUE=URI;X-ADDRESS=The Little Theatre 6 Christchurch Place Balfour Street Hertford Hertford SG14 3BB United Kingdom;X-APPLE-RADIUS=500;X-TITLE=6 Christchurch Place\, Balfour Street:geo:-0.08556,51.80002
END:VEVENT
BEGIN:VEVENT
DTSTART;TZID=Europe/London:20260124T153000
DTEND;TZID=Europe/London:20260124T180000
DTSTAMP:20260421T205555
CREATED:20251102T152048Z
LAST-MODIFIED:20251102T152048Z
UID:10001042-1769268600-1769277600@cops.org.uk
SUMMARY:Hobson's Choice
DESCRIPTION:
URL:https://cops.org.uk/event/hobsons-choice-17/
LOCATION:The Little Theatre\, 6 Christchurch Place\, Balfour Street\, Hertford\, Hertford\, SG14 3BB\, United Kingdom
CATEGORIES:Rehearsal
GEO:51.80002;-0.08556
X-APPLE-STRUCTURED-LOCATION;VALUE=URI;X-ADDRESS=The Little Theatre 6 Christchurch Place Balfour Street Hertford Hertford SG14 3BB United Kingdom;X-APPLE-RADIUS=500;X-TITLE=6 Christchurch Place\, Balfour Street:geo:-0.08556,51.80002
END:VEVENT
BEGIN:VEVENT
DTSTART;TZID=Europe/London:20260124T103000
DTEND;TZID=Europe/London:20260124T130000
DTSTAMP:20260421T205555
CREATED:20260121T091006Z
LAST-MODIFIED:20260121T091006Z
UID:10001105-1769250600-1769259600@cops.org.uk
SUMMARY:Theatre Development Walk-Around Meeting
DESCRIPTION:
URL:https://cops.org.uk/event/theatre-development-walk-around-meeting/
LOCATION:The Little Theatre\, 6 Christchurch Place\, Balfour Street\, Hertford\, Hertford\, SG14 3BB\, United Kingdom
GEO:51.80002;-0.08556
X-APPLE-STRUCTURED-LOCATION;VALUE=URI;X-ADDRESS=The Little Theatre 6 Christchurch Place Balfour Street Hertford Hertford SG14 3BB United Kingdom;X-APPLE-RADIUS=500;X-TITLE=6 Christchurch Place\, Balfour Street:geo:-0.08556,51.80002
END:VEVENT
BEGIN:VEVENT
DTSTART;TZID=Europe/London:20260122T193000
DTEND;TZID=Europe/London:20260122T223000
DTSTAMP:20260421T205555
CREATED:20251102T151923Z
LAST-MODIFIED:20251102T151923Z
UID:10001041-1769110200-1769121000@cops.org.uk
SUMMARY:Hobson's Choice
DESCRIPTION:
URL:https://cops.org.uk/event/hobsons-choice-16/
LOCATION:The Little Theatre\, 6 Christchurch Place\, Balfour Street\, Hertford\, Hertford\, SG14 3BB\, United Kingdom
CATEGORIES:Rehearsal
GEO:51.80002;-0.08556
X-APPLE-STRUCTURED-LOCATION;VALUE=URI;X-ADDRESS=The Little Theatre 6 Christchurch Place Balfour Street Hertford Hertford SG14 3BB United Kingdom;X-APPLE-RADIUS=500;X-TITLE=6 Christchurch Place\, Balfour Street:geo:-0.08556,51.80002
END:VEVENT
BEGIN:VEVENT
DTSTART;TZID=Europe/London:20260121T193000
DTEND;TZID=Europe/London:20260121T223000
DTSTAMP:20260421T205555
CREATED:20251102T151747Z
LAST-MODIFIED:20251102T151747Z
UID:10001040-1769023800-1769034600@cops.org.uk
SUMMARY:Hobson's Choice
DESCRIPTION:
URL:https://cops.org.uk/event/hobsons-choice-15/
LOCATION:The Little Theatre\, 6 Christchurch Place\, Balfour Street\, Hertford\, Hertford\, SG14 3BB\, United Kingdom
CATEGORIES:Rehearsal
GEO:51.80002;-0.08556
X-APPLE-STRUCTURED-LOCATION;VALUE=URI;X-ADDRESS=The Little Theatre 6 Christchurch Place Balfour Street Hertford Hertford SG14 3BB United Kingdom;X-APPLE-RADIUS=500;X-TITLE=6 Christchurch Place\, Balfour Street:geo:-0.08556,51.80002
END:VEVENT
BEGIN:VEVENT
DTSTART;TZID=Europe/London:20260118T150000
DTEND;TZID=Europe/London:20260118T180000
DTSTAMP:20260421T205555
CREATED:20251102T151619Z
LAST-MODIFIED:20251102T151619Z
UID:10001039-1768748400-1768759200@cops.org.uk
SUMMARY:Hobson's Choice
DESCRIPTION:
URL:https://cops.org.uk/event/hobsons-choice-14/
LOCATION:The Little Theatre\, 6 Christchurch Place\, Balfour Street\, Hertford\, Hertford\, SG14 3BB\, United Kingdom
CATEGORIES:Rehearsal
GEO:51.80002;-0.08556
X-APPLE-STRUCTURED-LOCATION;VALUE=URI;X-ADDRESS=The Little Theatre 6 Christchurch Place Balfour Street Hertford Hertford SG14 3BB United Kingdom;X-APPLE-RADIUS=500;X-TITLE=6 Christchurch Place\, Balfour Street:geo:-0.08556,51.80002
END:VEVENT
BEGIN:VEVENT
DTSTART;TZID=Europe/London:20260116T193000
DTEND;TZID=Europe/London:20260116T223000
DTSTAMP:20260421T205555
CREATED:20251102T151457Z
LAST-MODIFIED:20251102T151457Z
UID:10001038-1768591800-1768602600@cops.org.uk
SUMMARY:Hobson's Choice
DESCRIPTION:
URL:https://cops.org.uk/event/hobsons-choice-13/
LOCATION:The Little Theatre\, 6 Christchurch Place\, Balfour Street\, Hertford\, Hertford\, SG14 3BB\, United Kingdom
CATEGORIES:Rehearsal
GEO:51.80002;-0.08556
X-APPLE-STRUCTURED-LOCATION;VALUE=URI;X-ADDRESS=The Little Theatre 6 Christchurch Place Balfour Street Hertford Hertford SG14 3BB United Kingdom;X-APPLE-RADIUS=500;X-TITLE=6 Christchurch Place\, Balfour Street:geo:-0.08556,51.80002
END:VEVENT
BEGIN:VEVENT
DTSTART;TZID=Europe/London:20260115T193000
DTEND;TZID=Europe/London:20260115T223000
DTSTAMP:20260421T205555
CREATED:20251102T151251Z
LAST-MODIFIED:20251102T151251Z
UID:10001037-1768505400-1768516200@cops.org.uk
SUMMARY:Hobson's Choice
DESCRIPTION:
URL:https://cops.org.uk/event/hobsons-choice-12/
LOCATION:The Little Theatre\, 6 Christchurch Place\, Balfour Street\, Hertford\, Hertford\, SG14 3BB\, United Kingdom
CATEGORIES:Rehearsal
GEO:51.80002;-0.08556
X-APPLE-STRUCTURED-LOCATION;VALUE=URI;X-ADDRESS=The Little Theatre 6 Christchurch Place Balfour Street Hertford Hertford SG14 3BB United Kingdom;X-APPLE-RADIUS=500;X-TITLE=6 Christchurch Place\, Balfour Street:geo:-0.08556,51.80002
END:VEVENT
BEGIN:VEVENT
DTSTART;TZID=Europe/London:20260114T193000
DTEND;TZID=Europe/London:20260114T220000
DTSTAMP:20260421T205555
CREATED:20260105T143330Z
LAST-MODIFIED:20260105T143330Z
UID:10001073-1768419000-1768428000@cops.org.uk
SUMMARY:Committee Meeting
DESCRIPTION:
URL:https://cops.org.uk/event/committee-meeting-11/
LOCATION:The Little Theatre\, 6 Christchurch Place\, Balfour Street\, Hertford\, Hertford\, SG14 3BB\, United Kingdom
CATEGORIES:Meeting
GEO:51.80002;-0.08556
X-APPLE-STRUCTURED-LOCATION;VALUE=URI;X-ADDRESS=The Little Theatre 6 Christchurch Place Balfour Street Hertford Hertford SG14 3BB United Kingdom;X-APPLE-RADIUS=500;X-TITLE=6 Christchurch Place\, Balfour Street:geo:-0.08556,51.80002
END:VEVENT
BEGIN:VEVENT
DTSTART;TZID=Europe/London:20260113T200000
DTEND;TZID=Europe/London:20260113T220000
DTSTAMP:20260421T205555
CREATED:20251230T122122Z
LAST-MODIFIED:20251230T122122Z
UID:10001068-1768334400-1768341600@cops.org.uk
SUMMARY:Village Wooing - Audition
DESCRIPTION:
URL:https://cops.org.uk/event/village-wooing-audition-2/
LOCATION:The Little Theatre\, 6 Christchurch Place\, Balfour Street\, Hertford\, Hertford\, SG14 3BB\, United Kingdom
GEO:51.80002;-0.08556
X-APPLE-STRUCTURED-LOCATION;VALUE=URI;X-ADDRESS=The Little Theatre 6 Christchurch Place Balfour Street Hertford Hertford SG14 3BB United Kingdom;X-APPLE-RADIUS=500;X-TITLE=6 Christchurch Place\, Balfour Street:geo:-0.08556,51.80002
END:VEVENT
BEGIN:VEVENT
DTSTART;TZID=Europe/London:20260111T200000
DTEND;TZID=Europe/London:20260111T220000
DTSTAMP:20260421T205555
CREATED:20251230T122044Z
LAST-MODIFIED:20251230T122044Z
UID:10001067-1768161600-1768168800@cops.org.uk
SUMMARY:Village Wooing - Audition
DESCRIPTION:
URL:https://cops.org.uk/event/village-wooing-audition/
LOCATION:The Little Theatre\, 6 Christchurch Place\, Balfour Street\, Hertford\, Hertford\, SG14 3BB\, United Kingdom
GEO:51.80002;-0.08556
X-APPLE-STRUCTURED-LOCATION;VALUE=URI;X-ADDRESS=The Little Theatre 6 Christchurch Place Balfour Street Hertford Hertford SG14 3BB United Kingdom;X-APPLE-RADIUS=500;X-TITLE=6 Christchurch Place\, Balfour Street:geo:-0.08556,51.80002
END:VEVENT
BEGIN:VEVENT
DTSTART;TZID=Europe/London:20260111T153000
DTEND;TZID=Europe/London:20260111T180000
DTSTAMP:20260421T205555
CREATED:20251102T151118Z
LAST-MODIFIED:20251102T151118Z
UID:10001036-1768145400-1768154400@cops.org.uk
SUMMARY:Hobson's Choice
DESCRIPTION:
URL:https://cops.org.uk/event/hobsons-choice-11/
LOCATION:The Little Theatre\, 6 Christchurch Place\, Balfour Street\, Hertford\, Hertford\, SG14 3BB\, United Kingdom
CATEGORIES:Rehearsal
GEO:51.80002;-0.08556
X-APPLE-STRUCTURED-LOCATION;VALUE=URI;X-ADDRESS=The Little Theatre 6 Christchurch Place Balfour Street Hertford Hertford SG14 3BB United Kingdom;X-APPLE-RADIUS=500;X-TITLE=6 Christchurch Place\, Balfour Street:geo:-0.08556,51.80002
END:VEVENT
BEGIN:VEVENT
DTSTART;TZID=Europe/London:20260109T193000
DTEND;TZID=Europe/London:20260109T223000
DTSTAMP:20260421T205555
CREATED:20251102T150954Z
LAST-MODIFIED:20251102T150954Z
UID:10001035-1767987000-1767997800@cops.org.uk
SUMMARY:Hobson's Choice
DESCRIPTION:
URL:https://cops.org.uk/event/hobsons-choice-10/
LOCATION:The Little Theatre\, 6 Christchurch Place\, Balfour Street\, Hertford\, Hertford\, SG14 3BB\, United Kingdom
CATEGORIES:Rehearsal
GEO:51.80002;-0.08556
X-APPLE-STRUCTURED-LOCATION;VALUE=URI;X-ADDRESS=The Little Theatre 6 Christchurch Place Balfour Street Hertford Hertford SG14 3BB United Kingdom;X-APPLE-RADIUS=500;X-TITLE=6 Christchurch Place\, Balfour Street:geo:-0.08556,51.80002
END:VEVENT
BEGIN:VEVENT
DTSTART;TZID=Europe/London:20260108T193000
DTEND;TZID=Europe/London:20260108T223000
DTSTAMP:20260421T205555
CREATED:20251102T150755Z
LAST-MODIFIED:20251102T150755Z
UID:10001034-1767900600-1767911400@cops.org.uk
SUMMARY:Hobson's Choice
DESCRIPTION:
URL:https://cops.org.uk/event/hobsons-choice-9/
LOCATION:The Little Theatre\, 6 Christchurch Place\, Balfour Street\, Hertford\, Hertford\, SG14 3BB\, United Kingdom
CATEGORIES:Rehearsal
GEO:51.80002;-0.08556
X-APPLE-STRUCTURED-LOCATION;VALUE=URI;X-ADDRESS=The Little Theatre 6 Christchurch Place Balfour Street Hertford Hertford SG14 3BB United Kingdom;X-APPLE-RADIUS=500;X-TITLE=6 Christchurch Place\, Balfour Street:geo:-0.08556,51.80002
END:VEVENT
BEGIN:VEVENT
DTSTART;TZID=Europe/London:20260107T200000
DTEND;TZID=Europe/London:20260107T220000
DTSTAMP:20260421T205555
CREATED:20251102T150144Z
LAST-MODIFIED:20251102T150144Z
UID:10001033-1767816000-1767823200@cops.org.uk
SUMMARY:Hobson's Choice
DESCRIPTION:
URL:https://cops.org.uk/event/hobsons-choice-7/
LOCATION:The Little Theatre\, 6 Christchurch Place\, Balfour Street\, Hertford\, Hertford\, SG14 3BB\, United Kingdom
CATEGORIES:Rehearsal
GEO:51.80002;-0.08556
X-APPLE-STRUCTURED-LOCATION;VALUE=URI;X-ADDRESS=The Little Theatre 6 Christchurch Place Balfour Street Hertford Hertford SG14 3BB United Kingdom;X-APPLE-RADIUS=500;X-TITLE=6 Christchurch Place\, Balfour Street:geo:-0.08556,51.80002
END:VEVENT
BEGIN:VEVENT
DTSTART;TZID=Europe/London:20260104T153000
DTEND;TZID=Europe/London:20260104T180000
DTSTAMP:20260421T205555
CREATED:20251102T150019Z
LAST-MODIFIED:20251102T150019Z
UID:10001032-1767540600-1767549600@cops.org.uk
SUMMARY:Hobson's Choice
DESCRIPTION:
URL:https://cops.org.uk/event/hobsons-choice-6/
LOCATION:The Little Theatre\, 6 Christchurch Place\, Balfour Street\, Hertford\, Hertford\, SG14 3BB\, United Kingdom
CATEGORIES:Rehearsal
GEO:51.80002;-0.08556
X-APPLE-STRUCTURED-LOCATION;VALUE=URI;X-ADDRESS=The Little Theatre 6 Christchurch Place Balfour Street Hertford Hertford SG14 3BB United Kingdom;X-APPLE-RADIUS=500;X-TITLE=6 Christchurch Place\, Balfour Street:geo:-0.08556,51.80002
END:VEVENT
BEGIN:VEVENT
DTSTART;TZID=Europe/London:20260101T193000
DTEND;TZID=Europe/London:20260101T223000
DTSTAMP:20260421T205555
CREATED:20251102T145812Z
LAST-MODIFIED:20251102T145812Z
UID:10001031-1767295800-1767306600@cops.org.uk
SUMMARY:Hobson's Choice
DESCRIPTION:
URL:https://cops.org.uk/event/hobsons-choice-5/
LOCATION:The Little Theatre\, 6 Christchurch Place\, Balfour Street\, Hertford\, Hertford\, SG14 3BB\, United Kingdom
CATEGORIES:Rehearsal
GEO:51.80002;-0.08556
X-APPLE-STRUCTURED-LOCATION;VALUE=URI;X-ADDRESS=The Little Theatre 6 Christchurch Place Balfour Street Hertford Hertford SG14 3BB United Kingdom;X-APPLE-RADIUS=500;X-TITLE=6 Christchurch Place\, Balfour Street:geo:-0.08556,51.80002
END:VEVENT
BEGIN:VEVENT
DTSTART;TZID=Europe/London:20251230T193000
DTEND;TZID=Europe/London:20251230T223000
DTSTAMP:20260421T205555
CREATED:20251102T145254Z
LAST-MODIFIED:20251102T145254Z
UID:10001029-1767123000-1767133800@cops.org.uk
SUMMARY:Hobson's Choice
DESCRIPTION:
URL:https://cops.org.uk/event/hobsons-choice-3/
LOCATION:The Little Theatre\, 6 Christchurch Place\, Balfour Street\, Hertford\, Hertford\, SG14 3BB\, United Kingdom
CATEGORIES:Rehearsal
GEO:51.80002;-0.08556
X-APPLE-STRUCTURED-LOCATION;VALUE=URI;X-ADDRESS=The Little Theatre 6 Christchurch Place Balfour Street Hertford Hertford SG14 3BB United Kingdom;X-APPLE-RADIUS=500;X-TITLE=6 Christchurch Place\, Balfour Street:geo:-0.08556,51.80002
END:VEVENT
BEGIN:VEVENT
DTSTART;TZID=Europe/London:20251228T193000
DTEND;TZID=Europe/London:20251228T223000
DTSTAMP:20260421T205555
CREATED:20251102T145555Z
LAST-MODIFIED:20251102T145555Z
UID:10001030-1766950200-1766961000@cops.org.uk
SUMMARY:Hobson's Choice
DESCRIPTION:
URL:https://cops.org.uk/event/hobsons-choice-4/
LOCATION:The Little Theatre\, 6 Christchurch Place\, Balfour Street\, Hertford\, Hertford\, SG14 3BB\, United Kingdom
CATEGORIES:Rehearsal
GEO:51.80002;-0.08556
X-APPLE-STRUCTURED-LOCATION;VALUE=URI;X-ADDRESS=The Little Theatre 6 Christchurch Place Balfour Street Hertford Hertford SG14 3BB United Kingdom;X-APPLE-RADIUS=500;X-TITLE=6 Christchurch Place\, Balfour Street:geo:-0.08556,51.80002
END:VEVENT
END:VCALENDAR