BEGIN:VCALENDAR
VERSION:2.0
PRODID:-//The Company of Players (Hertford) - ECPv6.15.20//NONSGML v1.0//EN
CALSCALE:GREGORIAN
METHOD:PUBLISH
X-ORIGINAL-URL:https://cops.org.uk
X-WR-CALDESC:Events for The Company of Players (Hertford)
REFRESH-INTERVAL;VALUE=DURATION:PT1H
X-Robots-Tag:noindex
X-PUBLISHED-TTL:PT1H
BEGIN:VTIMEZONE
TZID:Europe/London
BEGIN:DAYLIGHT
TZOFFSETFROM:+0000
TZOFFSETTO:+0100
TZNAME:BST
DTSTART:20250330T010000
END:DAYLIGHT
BEGIN:STANDARD
TZOFFSETFROM:+0100
TZOFFSETTO:+0000
TZNAME:GMT
DTSTART:20251026T010000
END:STANDARD
BEGIN:DAYLIGHT
TZOFFSETFROM:+0000
TZOFFSETTO:+0100
TZNAME:BST
DTSTART:20260329T010000
END:DAYLIGHT
BEGIN:STANDARD
TZOFFSETFROM:+0100
TZOFFSETTO:+0000
TZNAME:GMT
DTSTART:20261025T010000
END:STANDARD
BEGIN:DAYLIGHT
TZOFFSETFROM:+0000
TZOFFSETTO:+0100
TZNAME:BST
DTSTART:20270328T010000
END:DAYLIGHT
BEGIN:STANDARD
TZOFFSETFROM:+0100
TZOFFSETTO:+0000
TZNAME:GMT
DTSTART:20271031T010000
END:STANDARD
END:VTIMEZONE
BEGIN:VEVENT
DTSTART;TZID=Europe/London:20260305T193000
DTEND;TZID=Europe/London:20260305T220000
DTSTAMP:20260421T161406
CREATED:20260112T145535Z
LAST-MODIFIED:20260112T145535Z
UID:10001082-1772739000-1772748000@cops.org.uk
SUMMARY:Deep Blue Sea
DESCRIPTION:
URL:https://cops.org.uk/event/deep-blue-sea-4/
LOCATION:The Little Theatre\, 6 Christchurch Place\, Balfour Street\, Hertford\, Hertford\, SG14 3BB\, United Kingdom
CATEGORIES:Rehearsal
GEO:51.80002;-0.08556
X-APPLE-STRUCTURED-LOCATION;VALUE=URI;X-ADDRESS=The Little Theatre 6 Christchurch Place Balfour Street Hertford Hertford SG14 3BB United Kingdom;X-APPLE-RADIUS=500;X-TITLE=6 Christchurch Place\, Balfour Street:geo:-0.08556,51.80002
END:VEVENT
BEGIN:VEVENT
DTSTART;TZID=Europe/London:20260304T193000
DTEND;TZID=Europe/London:20260304T220000
DTSTAMP:20260421T161406
CREATED:20260112T145445Z
LAST-MODIFIED:20260112T145445Z
UID:10001081-1772652600-1772661600@cops.org.uk
SUMMARY:Deep Blue Sea
DESCRIPTION:
URL:https://cops.org.uk/event/deep-blue-sea-3/
LOCATION:The Little Theatre\, 6 Christchurch Place\, Balfour Street\, Hertford\, Hertford\, SG14 3BB\, United Kingdom
CATEGORIES:Rehearsal
GEO:51.80002;-0.08556
X-APPLE-STRUCTURED-LOCATION;VALUE=URI;X-ADDRESS=The Little Theatre 6 Christchurch Place Balfour Street Hertford Hertford SG14 3BB United Kingdom;X-APPLE-RADIUS=500;X-TITLE=6 Christchurch Place\, Balfour Street:geo:-0.08556,51.80002
END:VEVENT
BEGIN:VEVENT
DTSTART;TZID=Europe/London:20260304T193000
DTEND;TZID=Europe/London:20260304T213000
DTSTAMP:20260421T161406
CREATED:20260126T172900Z
LAST-MODIFIED:20260126T172900Z
UID:10001122-1772652600-1772659800@cops.org.uk
SUMMARY:Village Wooing rehearsal
DESCRIPTION:
URL:https://cops.org.uk/event/village-wooing-rehearsal-5/
LOCATION:CoPs Foyer
CATEGORIES:Rehearsal
END:VEVENT
BEGIN:VEVENT
DTSTART;TZID=Europe/London:20260303T193000
DTEND;TZID=Europe/London:20260303T223000
DTSTAMP:20260421T161406
CREATED:20260121T091100Z
LAST-MODIFIED:20260121T091100Z
UID:10001106-1772566200-1772577000@cops.org.uk
SUMMARY:Theatre Development Meeting
DESCRIPTION:
URL:https://cops.org.uk/event/theatre-development-meeting-7/
LOCATION:The Little Theatre\, 6 Christchurch Place\, Balfour Street\, Hertford\, Hertford\, SG14 3BB\, United Kingdom
GEO:51.80002;-0.08556
X-APPLE-STRUCTURED-LOCATION;VALUE=URI;X-ADDRESS=The Little Theatre 6 Christchurch Place Balfour Street Hertford Hertford SG14 3BB United Kingdom;X-APPLE-RADIUS=500;X-TITLE=6 Christchurch Place\, Balfour Street:geo:-0.08556,51.80002
END:VEVENT
BEGIN:VEVENT
DTSTART;TZID=Europe/London:20260301T140000
DTEND;TZID=Europe/London:20260301T170000
DTSTAMP:20260421T161406
CREATED:20260126T153955Z
LAST-MODIFIED:20260126T153955Z
UID:10001120-1772373600-1772384400@cops.org.uk
SUMMARY:Village Wooing rehersal
DESCRIPTION:
URL:https://cops.org.uk/event/village-wooing-rehersal/
LOCATION:The Little Theatre\, 6 Christchurch Place\, Balfour Street\, Hertford\, Hertford\, SG14 3BB\, United Kingdom
CATEGORIES:Rehearsal
GEO:51.80002;-0.08556
X-APPLE-STRUCTURED-LOCATION;VALUE=URI;X-ADDRESS=The Little Theatre 6 Christchurch Place Balfour Street Hertford Hertford SG14 3BB United Kingdom;X-APPLE-RADIUS=500;X-TITLE=6 Christchurch Place\, Balfour Street:geo:-0.08556,51.80002
END:VEVENT
BEGIN:VEVENT
DTSTART;TZID=Europe/London:20260301T140000
DTEND;TZID=Europe/London:20260301T170000
DTSTAMP:20260421T161406
CREATED:20260112T145353Z
LAST-MODIFIED:20260112T145353Z
UID:10001080-1772373600-1772384400@cops.org.uk
SUMMARY:Deep Blue Sea
DESCRIPTION:
URL:https://cops.org.uk/event/deep-blue-sea-2/
LOCATION:The Little Theatre\, 6 Christchurch Place\, Balfour Street\, Hertford\, Hertford\, SG14 3BB\, United Kingdom
CATEGORIES:Rehearsal
GEO:51.80002;-0.08556
X-APPLE-STRUCTURED-LOCATION;VALUE=URI;X-ADDRESS=The Little Theatre 6 Christchurch Place Balfour Street Hertford Hertford SG14 3BB United Kingdom;X-APPLE-RADIUS=500;X-TITLE=6 Christchurch Place\, Balfour Street:geo:-0.08556,51.80002
END:VEVENT
BEGIN:VEVENT
DTSTART;TZID=Europe/London:20260228T180000
DTEND;TZID=Europe/London:20260228T220000
DTSTAMP:20260421T161406
CREATED:20260112T145225Z
LAST-MODIFIED:20260112T145225Z
UID:10001079-1772301600-1772316000@cops.org.uk
SUMMARY:Youth Group Production
DESCRIPTION:
URL:https://cops.org.uk/event/youth-group-production-4/
LOCATION:The Little Theatre\, 6 Christchurch Place\, Balfour Street\, Hertford\, Hertford\, SG14 3BB\, United Kingdom
CATEGORIES:Production
GEO:51.80002;-0.08556
X-APPLE-STRUCTURED-LOCATION;VALUE=URI;X-ADDRESS=The Little Theatre 6 Christchurch Place Balfour Street Hertford Hertford SG14 3BB United Kingdom;X-APPLE-RADIUS=500;X-TITLE=6 Christchurch Place\, Balfour Street:geo:-0.08556,51.80002
END:VEVENT
BEGIN:VEVENT
DTSTART;TZID=Europe/London:20260227T180000
DTEND;TZID=Europe/London:20260227T220000
DTSTAMP:20260421T161406
CREATED:20260112T145119Z
LAST-MODIFIED:20260112T145119Z
UID:10001078-1772215200-1772229600@cops.org.uk
SUMMARY:Youth Group Production
DESCRIPTION:
URL:https://cops.org.uk/event/youth-group-production-3/
LOCATION:The Little Theatre\, 6 Christchurch Place\, Balfour Street\, Hertford\, Hertford\, SG14 3BB\, United Kingdom
CATEGORIES:Production
GEO:51.80002;-0.08556
X-APPLE-STRUCTURED-LOCATION;VALUE=URI;X-ADDRESS=The Little Theatre 6 Christchurch Place Balfour Street Hertford Hertford SG14 3BB United Kingdom;X-APPLE-RADIUS=500;X-TITLE=6 Christchurch Place\, Balfour Street:geo:-0.08556,51.80002
END:VEVENT
BEGIN:VEVENT
DTSTART;TZID=Europe/London:20260226T193000
DTEND;TZID=Europe/London:20260226T220000
DTSTAMP:20260421T161406
CREATED:20260112T144855Z
LAST-MODIFIED:20260112T144855Z
UID:10001077-1772134200-1772143200@cops.org.uk
SUMMARY:Deep Blue Sea
DESCRIPTION:
URL:https://cops.org.uk/event/deep-blue-sea/
LOCATION:The Little Theatre\, 6 Christchurch Place\, Balfour Street\, Hertford\, Hertford\, SG14 3BB\, United Kingdom
CATEGORIES:Rehearsal
GEO:51.80002;-0.08556
X-APPLE-STRUCTURED-LOCATION;VALUE=URI;X-ADDRESS=The Little Theatre 6 Christchurch Place Balfour Street Hertford Hertford SG14 3BB United Kingdom;X-APPLE-RADIUS=500;X-TITLE=6 Christchurch Place\, Balfour Street:geo:-0.08556,51.80002
END:VEVENT
BEGIN:VEVENT
DTSTART;TZID=Europe/London:20260225T193000
DTEND;TZID=Europe/London:20260225T220000
DTSTAMP:20260421T161406
CREATED:20260112T144550Z
LAST-MODIFIED:20260112T144550Z
UID:10001075-1772047800-1772056800@cops.org.uk
SUMMARY:Deep Blue Sea rehearsal
DESCRIPTION:
URL:https://cops.org.uk/event/deep-blue-sea-rehearsal-2/
LOCATION:The Little Theatre\, 6 Christchurch Place\, Balfour Street\, Hertford\, Hertford\, SG14 3BB\, United Kingdom
CATEGORIES:Rehearsal
GEO:51.80002;-0.08556
X-APPLE-STRUCTURED-LOCATION;VALUE=URI;X-ADDRESS=The Little Theatre 6 Christchurch Place Balfour Street Hertford Hertford SG14 3BB United Kingdom;X-APPLE-RADIUS=500;X-TITLE=6 Christchurch Place\, Balfour Street:geo:-0.08556,51.80002
END:VEVENT
BEGIN:VEVENT
DTSTART;TZID=Europe/London:20260225T150000
DTEND;TZID=Europe/London:20260225T173000
DTSTAMP:20260421T161406
CREATED:20260211T170343Z
LAST-MODIFIED:20260211T170343Z
UID:10001140-1772031600-1772040600@cops.org.uk
SUMMARY:Ken YG lighting meeting
DESCRIPTION:
URL:https://cops.org.uk/event/ken-yg-lighting-meeting/
LOCATION:The Little Theatre\, 6 Christchurch Place\, Balfour Street\, Hertford\, Hertford\, SG14 3BB\, United Kingdom
CATEGORIES:Meeting
GEO:51.80002;-0.08556
X-APPLE-STRUCTURED-LOCATION;VALUE=URI;X-ADDRESS=The Little Theatre 6 Christchurch Place Balfour Street Hertford Hertford SG14 3BB United Kingdom;X-APPLE-RADIUS=500;X-TITLE=6 Christchurch Place\, Balfour Street:geo:-0.08556,51.80002
END:VEVENT
BEGIN:VEVENT
DTSTART;TZID=Europe/London:20260224T190000
DTEND;TZID=Europe/London:20260224T220000
DTSTAMP:20260421T161406
CREATED:20260211T170216Z
LAST-MODIFIED:20260211T170216Z
UID:10001139-1771959600-1771970400@cops.org.uk
SUMMARY:YG   Ken Lighting
DESCRIPTION:
URL:https://cops.org.uk/event/yg-ken-lighting/
LOCATION:The Little Theatre\, 6 Christchurch Place\, Balfour Street\, Hertford\, Hertford\, SG14 3BB\, United Kingdom
CATEGORIES:Maintenance
GEO:51.80002;-0.08556
X-APPLE-STRUCTURED-LOCATION;VALUE=URI;X-ADDRESS=The Little Theatre 6 Christchurch Place Balfour Street Hertford Hertford SG14 3BB United Kingdom;X-APPLE-RADIUS=500;X-TITLE=6 Christchurch Place\, Balfour Street:geo:-0.08556,51.80002
END:VEVENT
BEGIN:VEVENT
DTSTART;TZID=Europe/London:20260223T193000
DTEND;TZID=Europe/London:20260223T220000
DTSTAMP:20260421T161406
CREATED:20260121T165728Z
LAST-MODIFIED:20260121T165728Z
UID:10001107-1771875000-1771884000@cops.org.uk
SUMMARY:Committee Meeting
DESCRIPTION:
URL:https://cops.org.uk/event/committee-meeting-13/
LOCATION:The Little Theatre\, 6 Christchurch Place\, Balfour Street\, Hertford\, Hertford\, SG14 3BB\, United Kingdom
CATEGORIES:Meeting
GEO:51.80002;-0.08556
X-APPLE-STRUCTURED-LOCATION;VALUE=URI;X-ADDRESS=The Little Theatre 6 Christchurch Place Balfour Street Hertford Hertford SG14 3BB United Kingdom;X-APPLE-RADIUS=500;X-TITLE=6 Christchurch Place\, Balfour Street:geo:-0.08556,51.80002
END:VEVENT
BEGIN:VEVENT
DTSTART;TZID=Europe/London:20260223T193000
DTEND;TZID=Europe/London:20260223T220000
DTSTAMP:20260421T161406
CREATED:20260112T144732Z
LAST-MODIFIED:20260112T144732Z
UID:10001076-1771875000-1771884000@cops.org.uk
SUMMARY:Committee Meeting
DESCRIPTION:
URL:https://cops.org.uk/event/committee-meeting-12/
LOCATION:The Little Theatre\, 6 Christchurch Place\, Balfour Street\, Hertford\, Hertford\, SG14 3BB\, United Kingdom
CATEGORIES:Meeting
GEO:51.80002;-0.08556
X-APPLE-STRUCTURED-LOCATION;VALUE=URI;X-ADDRESS=The Little Theatre 6 Christchurch Place Balfour Street Hertford Hertford SG14 3BB United Kingdom;X-APPLE-RADIUS=500;X-TITLE=6 Christchurch Place\, Balfour Street:geo:-0.08556,51.80002
END:VEVENT
BEGIN:VEVENT
DTSTART;TZID=Europe/London:20260222T140000
DTEND;TZID=Europe/London:20260222T170000
DTSTAMP:20260421T161406
CREATED:20260112T144348Z
LAST-MODIFIED:20260112T144348Z
UID:10001074-1771768800-1771779600@cops.org.uk
SUMMARY:Deep Blue Sea rehearsal
DESCRIPTION:
URL:https://cops.org.uk/event/deep-blue-sea-rehearsal/
LOCATION:The Little Theatre\, 6 Christchurch Place\, Balfour Street\, Hertford\, Hertford\, SG14 3BB\, United Kingdom
CATEGORIES:Rehearsal
GEO:51.80002;-0.08556
X-APPLE-STRUCTURED-LOCATION;VALUE=URI;X-ADDRESS=The Little Theatre 6 Christchurch Place Balfour Street Hertford Hertford SG14 3BB United Kingdom;X-APPLE-RADIUS=500;X-TITLE=6 Christchurch Place\, Balfour Street:geo:-0.08556,51.80002
END:VEVENT
BEGIN:VEVENT
DTSTART;TZID=Europe/London:20260222T100000
DTEND;TZID=Europe/London:20260222T130000
DTSTAMP:20260421T161406
CREATED:20250807T104811Z
LAST-MODIFIED:20250807T104811Z
UID:10000930-1771754400-1771765200@cops.org.uk
SUMMARY:Hobson's Choice strike
DESCRIPTION:
URL:https://cops.org.uk/event/hobsons-choice-strike/
LOCATION:The Little Theatre\, 6 Christchurch Place\, Balfour Street\, Hertford\, Hertford\, SG14 3BB\, United Kingdom
CATEGORIES:Club Admin
GEO:51.80002;-0.08556
X-APPLE-STRUCTURED-LOCATION;VALUE=URI;X-ADDRESS=The Little Theatre 6 Christchurch Place Balfour Street Hertford Hertford SG14 3BB United Kingdom;X-APPLE-RADIUS=500;X-TITLE=6 Christchurch Place\, Balfour Street:geo:-0.08556,51.80002
END:VEVENT
BEGIN:VEVENT
DTSTART;TZID=Europe/London:20260221T123000
DTEND;TZID=Europe/London:20260221T230000
DTSTAMP:20260421T161406
CREATED:20250807T104635Z
LAST-MODIFIED:20251113T082324Z
UID:10000929-1771677000-1771714800@cops.org.uk
SUMMARY:Hobson's Choice performances  Matinee and evening
DESCRIPTION:
URL:https://cops.org.uk/event/hobsons-choice-performance-7/
LOCATION:The Little Theatre\, 6 Christchurch Place\, Balfour Street\, Hertford\, Hertford\, SG14 3BB\, United Kingdom
CATEGORIES:Performance
GEO:51.80002;-0.08556
X-APPLE-STRUCTURED-LOCATION;VALUE=URI;X-ADDRESS=The Little Theatre 6 Christchurch Place Balfour Street Hertford Hertford SG14 3BB United Kingdom;X-APPLE-RADIUS=500;X-TITLE=6 Christchurch Place\, Balfour Street:geo:-0.08556,51.80002
END:VEVENT
BEGIN:VEVENT
DTSTART;TZID=Europe/London:20260220T180000
DTEND;TZID=Europe/London:20260220T230000
DTSTAMP:20260421T161406
CREATED:20250807T104518Z
LAST-MODIFIED:20250807T104518Z
UID:10000928-1771610400-1771628400@cops.org.uk
SUMMARY:Hobson's Choice performance
DESCRIPTION:
URL:https://cops.org.uk/event/hobsons-choice-performance-6/
LOCATION:The Little Theatre\, 6 Christchurch Place\, Balfour Street\, Hertford\, Hertford\, SG14 3BB\, United Kingdom
CATEGORIES:Performance
GEO:51.80002;-0.08556
X-APPLE-STRUCTURED-LOCATION;VALUE=URI;X-ADDRESS=The Little Theatre 6 Christchurch Place Balfour Street Hertford Hertford SG14 3BB United Kingdom;X-APPLE-RADIUS=500;X-TITLE=6 Christchurch Place\, Balfour Street:geo:-0.08556,51.80002
END:VEVENT
BEGIN:VEVENT
DTSTART;TZID=Europe/London:20260219T180000
DTEND;TZID=Europe/London:20260219T230000
DTSTAMP:20260421T161406
CREATED:20250807T104409Z
LAST-MODIFIED:20250807T104409Z
UID:10000927-1771524000-1771542000@cops.org.uk
SUMMARY:Hobson's Choice
DESCRIPTION:
URL:https://cops.org.uk/event/hobsons-choice/
LOCATION:The Little Theatre\, 6 Christchurch Place\, Balfour Street\, Hertford\, Hertford\, SG14 3BB\, United Kingdom
CATEGORIES:Performance
GEO:51.80002;-0.08556
X-APPLE-STRUCTURED-LOCATION;VALUE=URI;X-ADDRESS=The Little Theatre 6 Christchurch Place Balfour Street Hertford Hertford SG14 3BB United Kingdom;X-APPLE-RADIUS=500;X-TITLE=6 Christchurch Place\, Balfour Street:geo:-0.08556,51.80002
END:VEVENT
BEGIN:VEVENT
DTSTART;TZID=Europe/London:20260218T180000
DTEND;TZID=Europe/London:20260218T230000
DTSTAMP:20260421T161406
CREATED:20250807T104243Z
LAST-MODIFIED:20250807T104243Z
UID:10000926-1771437600-1771455600@cops.org.uk
SUMMARY:Hobson's choice performance
DESCRIPTION:
URL:https://cops.org.uk/event/hobsons-choice-performance-5/
LOCATION:The Little Theatre\, 6 Christchurch Place\, Balfour Street\, Hertford\, Hertford\, SG14 3BB\, United Kingdom
CATEGORIES:Performance
GEO:51.80002;-0.08556
X-APPLE-STRUCTURED-LOCATION;VALUE=URI;X-ADDRESS=The Little Theatre 6 Christchurch Place Balfour Street Hertford Hertford SG14 3BB United Kingdom;X-APPLE-RADIUS=500;X-TITLE=6 Christchurch Place\, Balfour Street:geo:-0.08556,51.80002
END:VEVENT
BEGIN:VEVENT
DTSTART;TZID=Europe/London:20260217T180000
DTEND;TZID=Europe/London:20260217T230000
DTSTAMP:20260421T161406
CREATED:20250807T104039Z
LAST-MODIFIED:20250807T104039Z
UID:10000925-1771351200-1771369200@cops.org.uk
SUMMARY:Hobson's Choice performance
DESCRIPTION:
URL:https://cops.org.uk/event/hobsons-choice-performance-4/
LOCATION:The Little Theatre\, 6 Christchurch Place\, Balfour Street\, Hertford\, Hertford\, SG14 3BB\, United Kingdom
CATEGORIES:Performance
GEO:51.80002;-0.08556
X-APPLE-STRUCTURED-LOCATION;VALUE=URI;X-ADDRESS=The Little Theatre 6 Christchurch Place Balfour Street Hertford Hertford SG14 3BB United Kingdom;X-APPLE-RADIUS=500;X-TITLE=6 Christchurch Place\, Balfour Street:geo:-0.08556,51.80002
END:VEVENT
BEGIN:VEVENT
DTSTART;TZID=Europe/London:20260216T180000
DTEND;TZID=Europe/London:20260216T230000
DTSTAMP:20260421T161406
CREATED:20250807T103629Z
LAST-MODIFIED:20250807T103629Z
UID:10000924-1771264800-1771282800@cops.org.uk
SUMMARY:Hobson's Choice performance
DESCRIPTION:
URL:https://cops.org.uk/event/hobsons-choice-performance-3/
LOCATION:The Little Theatre\, 6 Christchurch Place\, Balfour Street\, Hertford\, Hertford\, SG14 3BB\, United Kingdom
CATEGORIES:Performance
GEO:51.80002;-0.08556
X-APPLE-STRUCTURED-LOCATION;VALUE=URI;X-ADDRESS=The Little Theatre 6 Christchurch Place Balfour Street Hertford Hertford SG14 3BB United Kingdom;X-APPLE-RADIUS=500;X-TITLE=6 Christchurch Place\, Balfour Street:geo:-0.08556,51.80002
END:VEVENT
BEGIN:VEVENT
DTSTART;TZID=Europe/London:20260215T140000
DTEND;TZID=Europe/London:20260215T160000
DTSTAMP:20260421T161406
CREATED:20260121T170609Z
LAST-MODIFIED:20260121T170609Z
UID:10001110-1771164000-1771171200@cops.org.uk
SUMMARY:Bleak Expectations audition
DESCRIPTION:
URL:https://cops.org.uk/event/bleak-expectations-audition-2/
LOCATION:CoPs Foyer
CATEGORIES:Audition
END:VEVENT
BEGIN:VEVENT
DTSTART;TZID=Europe/London:20260214T120000
DTEND;TZID=Europe/London:20260214T230000
DTSTAMP:20260421T161406
CREATED:20250807T103144Z
LAST-MODIFIED:20250807T103144Z
UID:10000921-1771070400-1771110000@cops.org.uk
SUMMARY:Hobson's Choice performances
DESCRIPTION:
URL:https://cops.org.uk/event/hobsons-choice-performances/
LOCATION:The Little Theatre\, 6 Christchurch Place\, Balfour Street\, Hertford\, Hertford\, SG14 3BB\, United Kingdom
CATEGORIES:Performance
GEO:51.80002;-0.08556
X-APPLE-STRUCTURED-LOCATION;VALUE=URI;X-ADDRESS=The Little Theatre 6 Christchurch Place Balfour Street Hertford Hertford SG14 3BB United Kingdom;X-APPLE-RADIUS=500;X-TITLE=6 Christchurch Place\, Balfour Street:geo:-0.08556,51.80002
END:VEVENT
BEGIN:VEVENT
DTSTART;TZID=Europe/London:20260213T180000
DTEND;TZID=Europe/London:20260213T230000
DTSTAMP:20260421T161406
CREATED:20250807T102927Z
LAST-MODIFIED:20251113T082607Z
UID:10000920-1771005600-1771023600@cops.org.uk
SUMMARY:Hobson's Choice Final Dress rehearsal
DESCRIPTION:
URL:https://cops.org.uk/event/hobsons-choice-performance/
LOCATION:The Little Theatre\, 6 Christchurch Place\, Balfour Street\, Hertford\, Hertford\, SG14 3BB\, United Kingdom
CATEGORIES:Performance
GEO:51.80002;-0.08556
X-APPLE-STRUCTURED-LOCATION;VALUE=URI;X-ADDRESS=The Little Theatre 6 Christchurch Place Balfour Street Hertford Hertford SG14 3BB United Kingdom;X-APPLE-RADIUS=500;X-TITLE=6 Christchurch Place\, Balfour Street:geo:-0.08556,51.80002
END:VEVENT
BEGIN:VEVENT
DTSTART;TZID=Europe/London:20260212T193000
DTEND;TZID=Europe/London:20260212T223000
DTSTAMP:20260421T161406
CREATED:20251102T155909Z
LAST-MODIFIED:20251113T082512Z
UID:10001056-1770924600-1770935400@cops.org.uk
SUMMARY:Hobson's Choice  Dress rehearsal
DESCRIPTION:
URL:https://cops.org.uk/event/hobsons-choice-final-dress-rehearsal/
LOCATION:The Little Theatre\, 6 Christchurch Place\, Balfour Street\, Hertford\, Hertford\, SG14 3BB\, United Kingdom
CATEGORIES:Rehearsal
GEO:51.80002;-0.08556
X-APPLE-STRUCTURED-LOCATION;VALUE=URI;X-ADDRESS=The Little Theatre 6 Christchurch Place Balfour Street Hertford Hertford SG14 3BB United Kingdom;X-APPLE-RADIUS=500;X-TITLE=6 Christchurch Place\, Balfour Street:geo:-0.08556,51.80002
END:VEVENT
BEGIN:VEVENT
DTSTART;TZID=Europe/London:20260212T180000
DTEND;TZID=Europe/London:20260212T230000
DTSTAMP:20260421T161406
CREATED:20250807T134015Z
LAST-MODIFIED:20250807T134015Z
UID:10000936-1770919200-1770937200@cops.org.uk
SUMMARY:Hobson's Choice  Dress rehearsal
DESCRIPTION:
URL:https://cops.org.uk/event/hobsons-choice-dress-rehearsal/
LOCATION:The Little Theatre\, 6 Christchurch Place\, Balfour Street\, Hertford\, Hertford\, SG14 3BB\, United Kingdom
CATEGORIES:Rehearsal
GEO:51.80002;-0.08556
X-APPLE-STRUCTURED-LOCATION;VALUE=URI;X-ADDRESS=The Little Theatre 6 Christchurch Place Balfour Street Hertford Hertford SG14 3BB United Kingdom;X-APPLE-RADIUS=500;X-TITLE=6 Christchurch Place\, Balfour Street:geo:-0.08556,51.80002
END:VEVENT
BEGIN:VEVENT
DTSTART;TZID=Europe/London:20260211T200000
DTEND;TZID=Europe/London:20260211T220000
DTSTAMP:20260421T161406
CREATED:20260121T170423Z
LAST-MODIFIED:20260121T170423Z
UID:10001109-1770840000-1770847200@cops.org.uk
SUMMARY:Bleak Expectations audition
DESCRIPTION:
URL:https://cops.org.uk/event/bleak-expectations-audition/
LOCATION:CoPs Foyer
CATEGORIES:Meeting
END:VEVENT
BEGIN:VEVENT
DTSTART;TZID=Europe/London:20260211T193000
DTEND;TZID=Europe/London:20260211T223000
DTSTAMP:20260421T161406
CREATED:20251102T155724Z
LAST-MODIFIED:20251102T155724Z
UID:10001055-1770838200-1770849000@cops.org.uk
SUMMARY:Hobson's Choice 1st Dress Rehearsal
DESCRIPTION:
URL:https://cops.org.uk/event/hobsons-choice-1st-dress-rehearsal/
LOCATION:The Little Theatre\, 6 Christchurch Place\, Balfour Street\, Hertford\, Hertford\, SG14 3BB\, United Kingdom
CATEGORIES:Rehearsal
GEO:51.80002;-0.08556
X-APPLE-STRUCTURED-LOCATION;VALUE=URI;X-ADDRESS=The Little Theatre 6 Christchurch Place Balfour Street Hertford Hertford SG14 3BB United Kingdom;X-APPLE-RADIUS=500;X-TITLE=6 Christchurch Place\, Balfour Street:geo:-0.08556,51.80002
END:VEVENT
BEGIN:VEVENT
DTSTART;TZID=Europe/London:20260211T180000
DTEND;TZID=Europe/London:20260211T230000
DTSTAMP:20260421T161406
CREATED:20250807T133843Z
LAST-MODIFIED:20250807T133843Z
UID:10000935-1770832800-1770850800@cops.org.uk
SUMMARY:Reserved for Hobson's Choice
DESCRIPTION:
URL:https://cops.org.uk/event/reserved-for-hobsons-choice-4/
LOCATION:The Little Theatre\, 6 Christchurch Place\, Balfour Street\, Hertford\, Hertford\, SG14 3BB\, United Kingdom
CATEGORIES:Rehearsal
GEO:51.80002;-0.08556
X-APPLE-STRUCTURED-LOCATION;VALUE=URI;X-ADDRESS=The Little Theatre 6 Christchurch Place Balfour Street Hertford Hertford SG14 3BB United Kingdom;X-APPLE-RADIUS=500;X-TITLE=6 Christchurch Place\, Balfour Street:geo:-0.08556,51.80002
END:VEVENT
END:VCALENDAR