BEGIN:VCALENDAR
VERSION:2.0
PRODID:-//The Company of Players (Hertford) - ECPv6.15.20//NONSGML v1.0//EN
CALSCALE:GREGORIAN
METHOD:PUBLISH
X-ORIGINAL-URL:https://cops.org.uk
X-WR-CALDESC:Events for The Company of Players (Hertford)
REFRESH-INTERVAL;VALUE=DURATION:PT1H
X-Robots-Tag:noindex
X-PUBLISHED-TTL:PT1H
BEGIN:VTIMEZONE
TZID:Europe/London
BEGIN:DAYLIGHT
TZOFFSETFROM:+0000
TZOFFSETTO:+0100
TZNAME:BST
DTSTART:20250330T010000
END:DAYLIGHT
BEGIN:STANDARD
TZOFFSETFROM:+0100
TZOFFSETTO:+0000
TZNAME:GMT
DTSTART:20251026T010000
END:STANDARD
BEGIN:DAYLIGHT
TZOFFSETFROM:+0000
TZOFFSETTO:+0100
TZNAME:BST
DTSTART:20260329T010000
END:DAYLIGHT
BEGIN:STANDARD
TZOFFSETFROM:+0100
TZOFFSETTO:+0000
TZNAME:GMT
DTSTART:20261025T010000
END:STANDARD
BEGIN:DAYLIGHT
TZOFFSETFROM:+0000
TZOFFSETTO:+0100
TZNAME:BST
DTSTART:20270328T010000
END:DAYLIGHT
BEGIN:STANDARD
TZOFFSETFROM:+0100
TZOFFSETTO:+0000
TZNAME:GMT
DTSTART:20271031T010000
END:STANDARD
END:VTIMEZONE
BEGIN:VEVENT
DTSTART;TZID=Europe/London:20260406T160000
DTEND;TZID=Europe/London:20260406T190000
DTSTAMP:20260421T124430
CREATED:20260330T135352Z
LAST-MODIFIED:20260330T135352Z
UID:10001163-1775491200-1775502000@cops.org.uk
SUMMARY:Village Wooing
DESCRIPTION:
URL:https://cops.org.uk/event/village-wooing/
LOCATION:The Little Theatre\, 6 Christchurch Place\, Balfour Street\, Hertford\, Hertford\, SG14 3BB\, United Kingdom
CATEGORIES:Rehearsal
GEO:51.80002;-0.08556
X-APPLE-STRUCTURED-LOCATION;VALUE=URI;X-ADDRESS=The Little Theatre 6 Christchurch Place Balfour Street Hertford Hertford SG14 3BB United Kingdom;X-APPLE-RADIUS=500;X-TITLE=6 Christchurch Place\, Balfour Street:geo:-0.08556,51.80002
END:VEVENT
BEGIN:VEVENT
DTSTART;TZID=Europe/London:20260405T140000
DTEND;TZID=Europe/London:20260405T170000
DTSTAMP:20260421T124430
CREATED:20260112T150902Z
LAST-MODIFIED:20260112T150902Z
UID:10001095-1775397600-1775408400@cops.org.uk
SUMMARY:Deep Blue Sea rehearsal
DESCRIPTION:
URL:https://cops.org.uk/event/deep-blue-sea-rehearsal-13/
LOCATION:The Little Theatre\, 6 Christchurch Place\, Balfour Street\, Hertford\, Hertford\, SG14 3BB\, United Kingdom
CATEGORIES:Rehearsal
GEO:51.80002;-0.08556
X-APPLE-STRUCTURED-LOCATION;VALUE=URI;X-ADDRESS=The Little Theatre 6 Christchurch Place Balfour Street Hertford Hertford SG14 3BB United Kingdom;X-APPLE-RADIUS=500;X-TITLE=6 Christchurch Place\, Balfour Street:geo:-0.08556,51.80002
END:VEVENT
BEGIN:VEVENT
DTSTART;TZID=Europe/London:20260402T193000
DTEND;TZID=Europe/London:20260402T220000
DTSTAMP:20260421T124430
CREATED:20260112T150811Z
LAST-MODIFIED:20260112T150811Z
UID:10001094-1775158200-1775167200@cops.org.uk
SUMMARY:Deep Blue Sea rehearsal
DESCRIPTION:
URL:https://cops.org.uk/event/deep-blue-sea-rehearsal-12/
LOCATION:The Little Theatre\, 6 Christchurch Place\, Balfour Street\, Hertford\, Hertford\, SG14 3BB\, United Kingdom
CATEGORIES:Rehearsal
GEO:51.80002;-0.08556
X-APPLE-STRUCTURED-LOCATION;VALUE=URI;X-ADDRESS=The Little Theatre 6 Christchurch Place Balfour Street Hertford Hertford SG14 3BB United Kingdom;X-APPLE-RADIUS=500;X-TITLE=6 Christchurch Place\, Balfour Street:geo:-0.08556,51.80002
END:VEVENT
BEGIN:VEVENT
DTSTART;TZID=Europe/London:20260401T193000
DTEND;TZID=Europe/London:20260401T220000
DTSTAMP:20260421T124430
CREATED:20260112T150717Z
LAST-MODIFIED:20260112T150717Z
UID:10001093-1775071800-1775080800@cops.org.uk
SUMMARY:Deep Blue Sea rehearsal
DESCRIPTION:
URL:https://cops.org.uk/event/deep-blue-sea-rehearsal-11/
LOCATION:The Little Theatre\, 6 Christchurch Place\, Balfour Street\, Hertford\, Hertford\, SG14 3BB\, United Kingdom
CATEGORIES:Rehearsal
GEO:51.80002;-0.08556
X-APPLE-STRUCTURED-LOCATION;VALUE=URI;X-ADDRESS=The Little Theatre 6 Christchurch Place Balfour Street Hertford Hertford SG14 3BB United Kingdom;X-APPLE-RADIUS=500;X-TITLE=6 Christchurch Place\, Balfour Street:geo:-0.08556,51.80002
END:VEVENT
BEGIN:VEVENT
DTSTART;TZID=Europe/London:20260331T193000
DTEND;TZID=Europe/London:20260331T220000
DTSTAMP:20260421T124430
CREATED:20260121T165845Z
LAST-MODIFIED:20260121T165845Z
UID:10001108-1774985400-1774994400@cops.org.uk
SUMMARY:Committee Meeting
DESCRIPTION:
URL:https://cops.org.uk/event/committee-meeting-14/
LOCATION:The Little Theatre\, 6 Christchurch Place\, Balfour Street\, Hertford\, Hertford\, SG14 3BB\, United Kingdom
CATEGORIES:Meeting
GEO:51.80002;-0.08556
X-APPLE-STRUCTURED-LOCATION;VALUE=URI;X-ADDRESS=The Little Theatre 6 Christchurch Place Balfour Street Hertford Hertford SG14 3BB United Kingdom;X-APPLE-RADIUS=500;X-TITLE=6 Christchurch Place\, Balfour Street:geo:-0.08556,51.80002
END:VEVENT
BEGIN:VEVENT
DTSTART;TZID=Europe/London:20260329T140000
DTEND;TZID=Europe/London:20260329T170000
DTSTAMP:20260421T124430
CREATED:20260126T174307Z
LAST-MODIFIED:20260126T174458Z
UID:10001127-1774792800-1774803600@cops.org.uk
SUMMARY:Village Wooing rehearsal
DESCRIPTION:
URL:https://cops.org.uk/event/village-wooing-rehearsal-9/
LOCATION:CoPs Foyer
CATEGORIES:Rehearsal
END:VEVENT
BEGIN:VEVENT
DTSTART;TZID=Europe/London:20260329T140000
DTEND;TZID=Europe/London:20260329T170000
DTSTAMP:20260421T124430
CREATED:20260112T150528Z
LAST-MODIFIED:20260112T150528Z
UID:10001092-1774792800-1774803600@cops.org.uk
SUMMARY:Deep Blue Sea rehearsal
DESCRIPTION:
URL:https://cops.org.uk/event/deep-blue-sea-rehearsal-10/
LOCATION:The Little Theatre\, 6 Christchurch Place\, Balfour Street\, Hertford\, Hertford\, SG14 3BB\, United Kingdom
CATEGORIES:Rehearsal
GEO:51.80002;-0.08556
X-APPLE-STRUCTURED-LOCATION;VALUE=URI;X-ADDRESS=The Little Theatre 6 Christchurch Place Balfour Street Hertford Hertford SG14 3BB United Kingdom;X-APPLE-RADIUS=500;X-TITLE=6 Christchurch Place\, Balfour Street:geo:-0.08556,51.80002
END:VEVENT
BEGIN:VEVENT
DTSTART;TZID=Europe/London:20260329T093000
DTEND;TZID=Europe/London:20260329T123000
DTSTAMP:20260421T124430
CREATED:20260317T082622Z
LAST-MODIFIED:20260317T082622Z
UID:10001143-1774776600-1774787400@cops.org.uk
SUMMARY:Bleak Expectations read thro
DESCRIPTION:
URL:https://cops.org.uk/event/bleak-expectations-read-thro/
LOCATION:The Little Theatre\, 6 Christchurch Place\, Balfour Street\, Hertford\, Hertford\, SG14 3BB\, United Kingdom
CATEGORIES:Meeting
GEO:51.80002;-0.08556
X-APPLE-STRUCTURED-LOCATION;VALUE=URI;X-ADDRESS=The Little Theatre 6 Christchurch Place Balfour Street Hertford Hertford SG14 3BB United Kingdom;X-APPLE-RADIUS=500;X-TITLE=6 Christchurch Place\, Balfour Street:geo:-0.08556,51.80002
END:VEVENT
BEGIN:VEVENT
DTSTART;TZID=Europe/London:20260326T193000
DTEND;TZID=Europe/London:20260326T220000
DTSTAMP:20260421T124430
CREATED:20260112T150448Z
LAST-MODIFIED:20260112T150448Z
UID:10001091-1774553400-1774562400@cops.org.uk
SUMMARY:Deep Blue Sea rehearsal
DESCRIPTION:
URL:https://cops.org.uk/event/deep-blue-sea-rehearsal-9/
LOCATION:The Little Theatre\, 6 Christchurch Place\, Balfour Street\, Hertford\, Hertford\, SG14 3BB\, United Kingdom
CATEGORIES:Rehearsal
GEO:51.80002;-0.08556
X-APPLE-STRUCTURED-LOCATION;VALUE=URI;X-ADDRESS=The Little Theatre 6 Christchurch Place Balfour Street Hertford Hertford SG14 3BB United Kingdom;X-APPLE-RADIUS=500;X-TITLE=6 Christchurch Place\, Balfour Street:geo:-0.08556,51.80002
END:VEVENT
BEGIN:VEVENT
DTSTART;TZID=Europe/London:20260325T193000
DTEND;TZID=Europe/London:20260325T220000
DTSTAMP:20260421T124430
CREATED:20260112T150343Z
LAST-MODIFIED:20260112T150343Z
UID:10001090-1774467000-1774476000@cops.org.uk
SUMMARY:Deep Blue Sea rehearsal
DESCRIPTION:
URL:https://cops.org.uk/event/deep-blue-sea-rehearsal-8/
LOCATION:The Little Theatre\, 6 Christchurch Place\, Balfour Street\, Hertford\, Hertford\, SG14 3BB\, United Kingdom
CATEGORIES:Rehearsal
GEO:51.80002;-0.08556
X-APPLE-STRUCTURED-LOCATION;VALUE=URI;X-ADDRESS=The Little Theatre 6 Christchurch Place Balfour Street Hertford Hertford SG14 3BB United Kingdom;X-APPLE-RADIUS=500;X-TITLE=6 Christchurch Place\, Balfour Street:geo:-0.08556,51.80002
END:VEVENT
BEGIN:VEVENT
DTSTART;TZID=Europe/London:20260325T193000
DTEND;TZID=Europe/London:20260325T213000
DTSTAMP:20260421T124430
CREATED:20260126T174729Z
LAST-MODIFIED:20260126T174729Z
UID:10001128-1774467000-1774474200@cops.org.uk
SUMMARY:V illage Wooing rehearsal
DESCRIPTION:
URL:https://cops.org.uk/event/v-illage-wooing-rehearsal/
LOCATION:CoPs Foyer
CATEGORIES:Rehearsal
END:VEVENT
BEGIN:VEVENT
DTSTART;TZID=Europe/London:20260324T190000
DTEND;TZID=Europe/London:20260324T220000
DTSTAMP:20260421T124430
CREATED:20260303T073538Z
LAST-MODIFIED:20260303T073538Z
UID:10001142-1774378800-1774389600@cops.org.uk
SUMMARY:FoH training. Stage\, auditorium and foyer. Reserved until confirmed
DESCRIPTION:
URL:https://cops.org.uk/event/foh-training-stage-auditorium-and-foyer-reserved-until-confirmed/
LOCATION:The Little Theatre\, 6 Christchurch Place\, Balfour Street\, Hertford\, Hertford\, SG14 3BB\, United Kingdom
CATEGORIES:Meeting
GEO:51.80002;-0.08556
X-APPLE-STRUCTURED-LOCATION;VALUE=URI;X-ADDRESS=The Little Theatre 6 Christchurch Place Balfour Street Hertford Hertford SG14 3BB United Kingdom;X-APPLE-RADIUS=500;X-TITLE=6 Christchurch Place\, Balfour Street:geo:-0.08556,51.80002
END:VEVENT
BEGIN:VEVENT
DTSTART;TZID=Europe/London:20260322T180000
DTEND;TZID=Europe/London:20260322T210000
DTSTAMP:20260421T124430
CREATED:20260126T173133Z
LAST-MODIFIED:20260126T173133Z
UID:10001124-1774202400-1774213200@cops.org.uk
SUMMARY:Village Wooing
DESCRIPTION:
URL:https://cops.org.uk/event/village-wooing-2/
LOCATION:The Little Theatre\, 6 Christchurch Place\, Balfour Street\, Hertford\, Hertford\, SG14 3BB\, United Kingdom
CATEGORIES:Rehearsal
GEO:51.80002;-0.08556
X-APPLE-STRUCTURED-LOCATION;VALUE=URI;X-ADDRESS=The Little Theatre 6 Christchurch Place Balfour Street Hertford Hertford SG14 3BB United Kingdom;X-APPLE-RADIUS=500;X-TITLE=6 Christchurch Place\, Balfour Street:geo:-0.08556,51.80002
END:VEVENT
BEGIN:VEVENT
DTSTART;TZID=Europe/London:20260322T140000
DTEND;TZID=Europe/London:20260322T170000
DTSTAMP:20260421T124430
CREATED:20260112T150247Z
LAST-MODIFIED:20260112T150247Z
UID:10001089-1774188000-1774198800@cops.org.uk
SUMMARY:Deep Blue Sea rehearsal
DESCRIPTION:
URL:https://cops.org.uk/event/deep-blue-sea-rehearsal-7/
LOCATION:The Little Theatre\, 6 Christchurch Place\, Balfour Street\, Hertford\, Hertford\, SG14 3BB\, United Kingdom
CATEGORIES:Rehearsal
GEO:51.80002;-0.08556
X-APPLE-STRUCTURED-LOCATION;VALUE=URI;X-ADDRESS=The Little Theatre 6 Christchurch Place Balfour Street Hertford Hertford SG14 3BB United Kingdom;X-APPLE-RADIUS=500;X-TITLE=6 Christchurch Place\, Balfour Street:geo:-0.08556,51.80002
END:VEVENT
BEGIN:VEVENT
DTSTART;TZID=Europe/London:20260319T193000
DTEND;TZID=Europe/London:20260319T220000
DTSTAMP:20260421T124430
CREATED:20260112T150158Z
LAST-MODIFIED:20260112T150158Z
UID:10001088-1773948600-1773957600@cops.org.uk
SUMMARY:Deep Blue Sea rehearsal
DESCRIPTION:
URL:https://cops.org.uk/event/deep-blue-sea-rehearsal-6/
LOCATION:The Little Theatre\, 6 Christchurch Place\, Balfour Street\, Hertford\, Hertford\, SG14 3BB\, United Kingdom
CATEGORIES:Rehearsal
GEO:51.80002;-0.08556
X-APPLE-STRUCTURED-LOCATION;VALUE=URI;X-ADDRESS=The Little Theatre 6 Christchurch Place Balfour Street Hertford Hertford SG14 3BB United Kingdom;X-APPLE-RADIUS=500;X-TITLE=6 Christchurch Place\, Balfour Street:geo:-0.08556,51.80002
END:VEVENT
BEGIN:VEVENT
DTSTART;TZID=Europe/London:20260318T193000
DTEND;TZID=Europe/London:20260318T220000
DTSTAMP:20260421T124430
CREATED:20260112T150106Z
LAST-MODIFIED:20260112T150106Z
UID:10001087-1773862200-1773871200@cops.org.uk
SUMMARY:Deep Blue Sea rehearsal
DESCRIPTION:
URL:https://cops.org.uk/event/deep-blue-sea-rehearsal-5/
LOCATION:The Little Theatre\, 6 Christchurch Place\, Balfour Street\, Hertford\, Hertford\, SG14 3BB\, United Kingdom
CATEGORIES:Rehearsal
GEO:51.80002;-0.08556
X-APPLE-STRUCTURED-LOCATION;VALUE=URI;X-ADDRESS=The Little Theatre 6 Christchurch Place Balfour Street Hertford Hertford SG14 3BB United Kingdom;X-APPLE-RADIUS=500;X-TITLE=6 Christchurch Place\, Balfour Street:geo:-0.08556,51.80002
END:VEVENT
BEGIN:VEVENT
DTSTART;TZID=Europe/London:20260317T193000
DTEND;TZID=Europe/London:20260317T220000
DTSTAMP:20260421T124430
CREATED:20251216T204443Z
LAST-MODIFIED:20251216T204443Z
UID:10001066-1773775800-1773784800@cops.org.uk
SUMMARY:Trustees Meeting (Zoom)
DESCRIPTION:
URL:https://cops.org.uk/event/trustees-meeting-zoom/
LOCATION:Zoom
CATEGORIES:Meeting
END:VEVENT
BEGIN:VEVENT
DTSTART;TZID=Europe/London:20260315T140000
DTEND;TZID=Europe/London:20260315T170000
DTSTAMP:20260421T124430
CREATED:20260112T150010Z
LAST-MODIFIED:20260112T150010Z
UID:10001086-1773583200-1773594000@cops.org.uk
SUMMARY:Deep Blue Sea rehearsal
DESCRIPTION:
URL:https://cops.org.uk/event/deep-blue-sea-rehearsal-4/
LOCATION:The Little Theatre\, 6 Christchurch Place\, Balfour Street\, Hertford\, Hertford\, SG14 3BB\, United Kingdom
CATEGORIES:Rehearsal
GEO:51.80002;-0.08556
X-APPLE-STRUCTURED-LOCATION;VALUE=URI;X-ADDRESS=The Little Theatre 6 Christchurch Place Balfour Street Hertford Hertford SG14 3BB United Kingdom;X-APPLE-RADIUS=500;X-TITLE=6 Christchurch Place\, Balfour Street:geo:-0.08556,51.80002
END:VEVENT
BEGIN:VEVENT
DTSTART;TZID=Europe/London:20260313T193000
DTEND;TZID=Europe/London:20260313T213000
DTSTAMP:20260421T124430
CREATED:20260126T173025Z
LAST-MODIFIED:20260126T173025Z
UID:10001123-1773430200-1773437400@cops.org.uk
SUMMARY:Village Wooing rehearsal
DESCRIPTION:
URL:https://cops.org.uk/event/village-wooing-rehearsal-6/
LOCATION:The Little Theatre\, 6 Christchurch Place\, Balfour Street\, Hertford\, Hertford\, SG14 3BB\, United Kingdom
CATEGORIES:Rehearsal
GEO:51.80002;-0.08556
X-APPLE-STRUCTURED-LOCATION;VALUE=URI;X-ADDRESS=The Little Theatre 6 Christchurch Place Balfour Street Hertford Hertford SG14 3BB United Kingdom;X-APPLE-RADIUS=500;X-TITLE=6 Christchurch Place\, Balfour Street:geo:-0.08556,51.80002
END:VEVENT
BEGIN:VEVENT
DTSTART;TZID=Europe/London:20260312T193000
DTEND;TZID=Europe/London:20260312T220000
DTSTAMP:20260421T124430
CREATED:20260112T145916Z
LAST-MODIFIED:20260112T145916Z
UID:10001085-1773343800-1773352800@cops.org.uk
SUMMARY:Deep Blue Sea rehearsal
DESCRIPTION:
URL:https://cops.org.uk/event/deep-blue-sea-rehearsal-3/
LOCATION:The Little Theatre\, 6 Christchurch Place\, Balfour Street\, Hertford\, Hertford\, SG14 3BB\, United Kingdom
CATEGORIES:Rehearsal
GEO:51.80002;-0.08556
X-APPLE-STRUCTURED-LOCATION;VALUE=URI;X-ADDRESS=The Little Theatre 6 Christchurch Place Balfour Street Hertford Hertford SG14 3BB United Kingdom;X-APPLE-RADIUS=500;X-TITLE=6 Christchurch Place\, Balfour Street:geo:-0.08556,51.80002
END:VEVENT
BEGIN:VEVENT
DTSTART;TZID=Europe/London:20260311T193000
DTEND;TZID=Europe/London:20260311T220000
DTSTAMP:20260421T124430
CREATED:20260112T145709Z
LAST-MODIFIED:20260112T145709Z
UID:10001084-1773257400-1773266400@cops.org.uk
SUMMARY:Deep Blue Sea
DESCRIPTION:
URL:https://cops.org.uk/event/deep-blue-sea-6/
LOCATION:The Little Theatre\, 6 Christchurch Place\, Balfour Street\, Hertford\, Hertford\, SG14 3BB\, United Kingdom
CATEGORIES:Rehearsal
GEO:51.80002;-0.08556
X-APPLE-STRUCTURED-LOCATION;VALUE=URI;X-ADDRESS=The Little Theatre 6 Christchurch Place Balfour Street Hertford Hertford SG14 3BB United Kingdom;X-APPLE-RADIUS=500;X-TITLE=6 Christchurch Place\, Balfour Street:geo:-0.08556,51.80002
END:VEVENT
BEGIN:VEVENT
DTSTART;TZID=Europe/London:20260311T193000
DTEND;TZID=Europe/London:20260311T213000
DTSTAMP:20260421T124430
CREATED:20260126T174057Z
LAST-MODIFIED:20260126T174057Z
UID:10001126-1773257400-1773264600@cops.org.uk
SUMMARY:Village Wooing rehearsal
DESCRIPTION:
URL:https://cops.org.uk/event/village-wooing-rehearsal-8/
LOCATION:The Little Theatre\, 6 Christchurch Place\, Balfour Street\, Hertford\, Hertford\, SG14 3BB\, United Kingdom
CATEGORIES:Rehearsal
GEO:51.80002;-0.08556
X-APPLE-STRUCTURED-LOCATION;VALUE=URI;X-ADDRESS=The Little Theatre 6 Christchurch Place Balfour Street Hertford Hertford SG14 3BB United Kingdom;X-APPLE-RADIUS=500;X-TITLE=6 Christchurch Place\, Balfour Street:geo:-0.08556,51.80002
END:VEVENT
BEGIN:VEVENT
DTSTART;TZID=Europe/London:20260308T140000
DTEND;TZID=Europe/London:20260308T170000
DTSTAMP:20260421T124430
CREATED:20260126T173944Z
LAST-MODIFIED:20260126T173944Z
UID:10001125-1772978400-1772989200@cops.org.uk
SUMMARY:Village Wooing rehearsal
DESCRIPTION:
URL:https://cops.org.uk/event/village-wooing-rehearsal-7/
LOCATION:CoPs Foyer
CATEGORIES:Rehearsal
END:VEVENT
BEGIN:VEVENT
DTSTART;TZID=Europe/London:20260308T140000
DTEND;TZID=Europe/London:20260308T170000
DTSTAMP:20260421T124430
CREATED:20260112T145624Z
LAST-MODIFIED:20260112T145624Z
UID:10001083-1772978400-1772989200@cops.org.uk
SUMMARY:Deep Blue Sea
DESCRIPTION:
URL:https://cops.org.uk/event/deep-blue-sea-5/
LOCATION:The Little Theatre\, 6 Christchurch Place\, Balfour Street\, Hertford\, Hertford\, SG14 3BB\, United Kingdom
CATEGORIES:Rehearsal
GEO:51.80002;-0.08556
X-APPLE-STRUCTURED-LOCATION;VALUE=URI;X-ADDRESS=The Little Theatre 6 Christchurch Place Balfour Street Hertford Hertford SG14 3BB United Kingdom;X-APPLE-RADIUS=500;X-TITLE=6 Christchurch Place\, Balfour Street:geo:-0.08556,51.80002
END:VEVENT
BEGIN:VEVENT
DTSTART;TZID=Europe/London:20260305T193000
DTEND;TZID=Europe/London:20260305T220000
DTSTAMP:20260421T124430
CREATED:20260112T145535Z
LAST-MODIFIED:20260112T145535Z
UID:10001082-1772739000-1772748000@cops.org.uk
SUMMARY:Deep Blue Sea
DESCRIPTION:
URL:https://cops.org.uk/event/deep-blue-sea-4/
LOCATION:The Little Theatre\, 6 Christchurch Place\, Balfour Street\, Hertford\, Hertford\, SG14 3BB\, United Kingdom
CATEGORIES:Rehearsal
GEO:51.80002;-0.08556
X-APPLE-STRUCTURED-LOCATION;VALUE=URI;X-ADDRESS=The Little Theatre 6 Christchurch Place Balfour Street Hertford Hertford SG14 3BB United Kingdom;X-APPLE-RADIUS=500;X-TITLE=6 Christchurch Place\, Balfour Street:geo:-0.08556,51.80002
END:VEVENT
BEGIN:VEVENT
DTSTART;TZID=Europe/London:20260304T193000
DTEND;TZID=Europe/London:20260304T220000
DTSTAMP:20260421T124430
CREATED:20260112T145445Z
LAST-MODIFIED:20260112T145445Z
UID:10001081-1772652600-1772661600@cops.org.uk
SUMMARY:Deep Blue Sea
DESCRIPTION:
URL:https://cops.org.uk/event/deep-blue-sea-3/
LOCATION:The Little Theatre\, 6 Christchurch Place\, Balfour Street\, Hertford\, Hertford\, SG14 3BB\, United Kingdom
CATEGORIES:Rehearsal
GEO:51.80002;-0.08556
X-APPLE-STRUCTURED-LOCATION;VALUE=URI;X-ADDRESS=The Little Theatre 6 Christchurch Place Balfour Street Hertford Hertford SG14 3BB United Kingdom;X-APPLE-RADIUS=500;X-TITLE=6 Christchurch Place\, Balfour Street:geo:-0.08556,51.80002
END:VEVENT
BEGIN:VEVENT
DTSTART;TZID=Europe/London:20260304T193000
DTEND;TZID=Europe/London:20260304T213000
DTSTAMP:20260421T124430
CREATED:20260126T172900Z
LAST-MODIFIED:20260126T172900Z
UID:10001122-1772652600-1772659800@cops.org.uk
SUMMARY:Village Wooing rehearsal
DESCRIPTION:
URL:https://cops.org.uk/event/village-wooing-rehearsal-5/
LOCATION:CoPs Foyer
CATEGORIES:Rehearsal
END:VEVENT
BEGIN:VEVENT
DTSTART;TZID=Europe/London:20260303T193000
DTEND;TZID=Europe/London:20260303T223000
DTSTAMP:20260421T124430
CREATED:20260121T091100Z
LAST-MODIFIED:20260121T091100Z
UID:10001106-1772566200-1772577000@cops.org.uk
SUMMARY:Theatre Development Meeting
DESCRIPTION:
URL:https://cops.org.uk/event/theatre-development-meeting-7/
LOCATION:The Little Theatre\, 6 Christchurch Place\, Balfour Street\, Hertford\, Hertford\, SG14 3BB\, United Kingdom
GEO:51.80002;-0.08556
X-APPLE-STRUCTURED-LOCATION;VALUE=URI;X-ADDRESS=The Little Theatre 6 Christchurch Place Balfour Street Hertford Hertford SG14 3BB United Kingdom;X-APPLE-RADIUS=500;X-TITLE=6 Christchurch Place\, Balfour Street:geo:-0.08556,51.80002
END:VEVENT
BEGIN:VEVENT
DTSTART;TZID=Europe/London:20260301T140000
DTEND;TZID=Europe/London:20260301T170000
DTSTAMP:20260421T124430
CREATED:20260126T153955Z
LAST-MODIFIED:20260126T153955Z
UID:10001120-1772373600-1772384400@cops.org.uk
SUMMARY:Village Wooing rehersal
DESCRIPTION:
URL:https://cops.org.uk/event/village-wooing-rehersal/
LOCATION:The Little Theatre\, 6 Christchurch Place\, Balfour Street\, Hertford\, Hertford\, SG14 3BB\, United Kingdom
CATEGORIES:Rehearsal
GEO:51.80002;-0.08556
X-APPLE-STRUCTURED-LOCATION;VALUE=URI;X-ADDRESS=The Little Theatre 6 Christchurch Place Balfour Street Hertford Hertford SG14 3BB United Kingdom;X-APPLE-RADIUS=500;X-TITLE=6 Christchurch Place\, Balfour Street:geo:-0.08556,51.80002
END:VEVENT
BEGIN:VEVENT
DTSTART;TZID=Europe/London:20260301T140000
DTEND;TZID=Europe/London:20260301T170000
DTSTAMP:20260421T124430
CREATED:20260112T145353Z
LAST-MODIFIED:20260112T145353Z
UID:10001080-1772373600-1772384400@cops.org.uk
SUMMARY:Deep Blue Sea
DESCRIPTION:
URL:https://cops.org.uk/event/deep-blue-sea-2/
LOCATION:The Little Theatre\, 6 Christchurch Place\, Balfour Street\, Hertford\, Hertford\, SG14 3BB\, United Kingdom
CATEGORIES:Rehearsal
GEO:51.80002;-0.08556
X-APPLE-STRUCTURED-LOCATION;VALUE=URI;X-ADDRESS=The Little Theatre 6 Christchurch Place Balfour Street Hertford Hertford SG14 3BB United Kingdom;X-APPLE-RADIUS=500;X-TITLE=6 Christchurch Place\, Balfour Street:geo:-0.08556,51.80002
END:VEVENT
END:VCALENDAR