BEGIN:VCALENDAR
VERSION:2.0
PRODID:-//The Company of Players (Hertford) - ECPv6.15.20//NONSGML v1.0//EN
CALSCALE:GREGORIAN
METHOD:PUBLISH
X-WR-CALNAME:The Company of Players (Hertford)
X-ORIGINAL-URL:https://cops.org.uk
X-WR-CALDESC:Events for The Company of Players (Hertford)
REFRESH-INTERVAL;VALUE=DURATION:PT1H
X-Robots-Tag:noindex
X-PUBLISHED-TTL:PT1H
BEGIN:VTIMEZONE
TZID:Europe/London
BEGIN:DAYLIGHT
TZOFFSETFROM:+0000
TZOFFSETTO:+0100
TZNAME:BST
DTSTART:20240331T010000
END:DAYLIGHT
BEGIN:STANDARD
TZOFFSETFROM:+0100
TZOFFSETTO:+0000
TZNAME:GMT
DTSTART:20241027T010000
END:STANDARD
BEGIN:DAYLIGHT
TZOFFSETFROM:+0000
TZOFFSETTO:+0100
TZNAME:BST
DTSTART:20250330T010000
END:DAYLIGHT
BEGIN:STANDARD
TZOFFSETFROM:+0100
TZOFFSETTO:+0000
TZNAME:GMT
DTSTART:20251026T010000
END:STANDARD
BEGIN:DAYLIGHT
TZOFFSETFROM:+0000
TZOFFSETTO:+0100
TZNAME:BST
DTSTART:20260329T010000
END:DAYLIGHT
BEGIN:STANDARD
TZOFFSETFROM:+0100
TZOFFSETTO:+0000
TZNAME:GMT
DTSTART:20261025T010000
END:STANDARD
END:VTIMEZONE
BEGIN:VEVENT
DTSTART;TZID=Europe/London:20251014T193000
DTEND;TZID=Europe/London:20251014T223000
DTSTAMP:20260422T100823
CREATED:20251001T132733Z
LAST-MODIFIED:20251001T132733Z
UID:10000987-1760470200-1760481000@cops.org.uk
SUMMARY:And Then There Were None - Rehearsal
DESCRIPTION:
URL:https://cops.org.uk/event/and-then-there-were-none-rehearsal-2/
LOCATION:The Little Theatre\, 6 Christchurch Place\, Balfour Street\, Hertford\, Hertford\, SG14 3BB\, United Kingdom
GEO:51.80002;-0.08556
X-APPLE-STRUCTURED-LOCATION;VALUE=URI;X-ADDRESS=The Little Theatre 6 Christchurch Place Balfour Street Hertford Hertford SG14 3BB United Kingdom;X-APPLE-RADIUS=500;X-TITLE=6 Christchurch Place\, Balfour Street:geo:-0.08556,51.80002
END:VEVENT
BEGIN:VEVENT
DTSTART;TZID=Europe/London:20251014T193000
DTEND;TZID=Europe/London:20251014T220000
DTSTAMP:20260422T100823
CREATED:20250904T081816Z
LAST-MODIFIED:20250904T081816Z
UID:10000985-1760470200-1760479200@cops.org.uk
SUMMARY:Committee Meeting
DESCRIPTION:
URL:https://cops.org.uk/event/committee-meeting-8/
LOCATION:The Little Theatre\, 6 Christchurch Place\, Balfour Street\, Hertford\, Hertford\, SG14 3BB\, United Kingdom
CATEGORIES:Meeting
GEO:51.80002;-0.08556
X-APPLE-STRUCTURED-LOCATION;VALUE=URI;X-ADDRESS=The Little Theatre 6 Christchurch Place Balfour Street Hertford Hertford SG14 3BB United Kingdom;X-APPLE-RADIUS=500;X-TITLE=6 Christchurch Place\, Balfour Street:geo:-0.08556,51.80002
END:VEVENT
BEGIN:VEVENT
DTSTART;TZID=Europe/London:20251012T130000
DTEND;TZID=Europe/London:20251012T170000
DTSTAMP:20260422T100823
CREATED:20251001T132613Z
LAST-MODIFIED:20251001T132613Z
UID:10000986-1760274000-1760288400@cops.org.uk
SUMMARY:And Then There Were None - Rehearsal
DESCRIPTION:
URL:https://cops.org.uk/event/and-then-there-were-none-rehearsal/
LOCATION:The Little Theatre\, 6 Christchurch Place\, Balfour Street\, Hertford\, Hertford\, SG14 3BB\, United Kingdom
GEO:51.80002;-0.08556
X-APPLE-STRUCTURED-LOCATION;VALUE=URI;X-ADDRESS=The Little Theatre 6 Christchurch Place Balfour Street Hertford Hertford SG14 3BB United Kingdom;X-APPLE-RADIUS=500;X-TITLE=6 Christchurch Place\, Balfour Street:geo:-0.08556,51.80002
END:VEVENT
BEGIN:VEVENT
DTSTART;TZID=Europe/London:20251012T100000
DTEND;TZID=Europe/London:20251012T120000
DTSTAMP:20260422T100823
CREATED:20250830T140017Z
LAST-MODIFIED:20250830T140017Z
UID:10000984-1760263200-1760270400@cops.org.uk
SUMMARY:Oleanna Strike
DESCRIPTION:
URL:https://cops.org.uk/event/oleanna-strike/
LOCATION:The Little Theatre\, 6 Christchurch Place\, Balfour Street\, Hertford\, Hertford\, SG14 3BB\, United Kingdom
CATEGORIES:Meeting
GEO:51.80002;-0.08556
X-APPLE-STRUCTURED-LOCATION;VALUE=URI;X-ADDRESS=The Little Theatre 6 Christchurch Place Balfour Street Hertford Hertford SG14 3BB United Kingdom;X-APPLE-RADIUS=500;X-TITLE=6 Christchurch Place\, Balfour Street:geo:-0.08556,51.80002
END:VEVENT
BEGIN:VEVENT
DTSTART;TZID=Europe/London:20251011T190000
DTEND;TZID=Europe/London:20251011T220000
DTSTAMP:20260422T100823
CREATED:20250830T135825Z
LAST-MODIFIED:20250830T135825Z
UID:10000983-1760209200-1760220000@cops.org.uk
SUMMARY:Oleanna Performance
DESCRIPTION:
URL:https://cops.org.uk/event/oleanna-performance-7/
LOCATION:The Little Theatre\, 6 Christchurch Place\, Balfour Street\, Hertford\, Hertford\, SG14 3BB\, United Kingdom
CATEGORIES:Performance
GEO:51.80002;-0.08556
X-APPLE-STRUCTURED-LOCATION;VALUE=URI;X-ADDRESS=The Little Theatre 6 Christchurch Place Balfour Street Hertford Hertford SG14 3BB United Kingdom;X-APPLE-RADIUS=500;X-TITLE=6 Christchurch Place\, Balfour Street:geo:-0.08556,51.80002
END:VEVENT
BEGIN:VEVENT
DTSTART;TZID=Europe/London:20251010T190000
DTEND;TZID=Europe/London:20251010T220000
DTSTAMP:20260422T100823
CREATED:20250830T135650Z
LAST-MODIFIED:20250830T135650Z
UID:10000982-1760122800-1760133600@cops.org.uk
SUMMARY:Oleanna Performance
DESCRIPTION:
URL:https://cops.org.uk/event/oleanna-performance-6/
LOCATION:The Little Theatre\, 6 Christchurch Place\, Balfour Street\, Hertford\, Hertford\, SG14 3BB\, United Kingdom
CATEGORIES:Performance
GEO:51.80002;-0.08556
X-APPLE-STRUCTURED-LOCATION;VALUE=URI;X-ADDRESS=The Little Theatre 6 Christchurch Place Balfour Street Hertford Hertford SG14 3BB United Kingdom;X-APPLE-RADIUS=500;X-TITLE=6 Christchurch Place\, Balfour Street:geo:-0.08556,51.80002
END:VEVENT
BEGIN:VEVENT
DTSTART;TZID=Europe/London:20251009T190000
DTEND;TZID=Europe/London:20251009T220000
DTSTAMP:20260422T100823
CREATED:20250830T135359Z
LAST-MODIFIED:20250830T135359Z
UID:10000980-1760036400-1760047200@cops.org.uk
SUMMARY:Oleanna Performance
DESCRIPTION:
URL:https://cops.org.uk/event/oleanna-performance-4/
LOCATION:The Little Theatre\, 6 Christchurch Place\, Balfour Street\, Hertford\, Hertford\, SG14 3BB\, United Kingdom
CATEGORIES:Performance
GEO:51.80002;-0.08556
X-APPLE-STRUCTURED-LOCATION;VALUE=URI;X-ADDRESS=The Little Theatre 6 Christchurch Place Balfour Street Hertford Hertford SG14 3BB United Kingdom;X-APPLE-RADIUS=500;X-TITLE=6 Christchurch Place\, Balfour Street:geo:-0.08556,51.80002
END:VEVENT
BEGIN:VEVENT
DTSTART;TZID=Europe/London:20251008T190000
DTEND;TZID=Europe/London:20251008T220000
DTSTAMP:20260422T100823
CREATED:20250830T135540Z
LAST-MODIFIED:20250830T135540Z
UID:10000981-1759950000-1759960800@cops.org.uk
SUMMARY:Oleanna Performance
DESCRIPTION:
URL:https://cops.org.uk/event/oleanna-performance-5/
LOCATION:The Little Theatre\, 6 Christchurch Place\, Balfour Street\, Hertford\, Hertford\, SG14 3BB\, United Kingdom
CATEGORIES:Performance
GEO:51.80002;-0.08556
X-APPLE-STRUCTURED-LOCATION;VALUE=URI;X-ADDRESS=The Little Theatre 6 Christchurch Place Balfour Street Hertford Hertford SG14 3BB United Kingdom;X-APPLE-RADIUS=500;X-TITLE=6 Christchurch Place\, Balfour Street:geo:-0.08556,51.80002
END:VEVENT
BEGIN:VEVENT
DTSTART;TZID=Europe/London:20251007T190000
DTEND;TZID=Europe/London:20251007T220000
DTSTAMP:20260422T100823
CREATED:20250830T135128Z
LAST-MODIFIED:20250830T135128Z
UID:10000979-1759863600-1759874400@cops.org.uk
SUMMARY:Oleanna Performance
DESCRIPTION:
URL:https://cops.org.uk/event/oleanna-performance-2/
LOCATION:The Little Theatre\, 6 Christchurch Place\, Balfour Street\, Hertford\, Hertford\, SG14 3BB\, United Kingdom
CATEGORIES:Performance
GEO:51.80002;-0.08556
X-APPLE-STRUCTURED-LOCATION;VALUE=URI;X-ADDRESS=The Little Theatre 6 Christchurch Place Balfour Street Hertford Hertford SG14 3BB United Kingdom;X-APPLE-RADIUS=500;X-TITLE=6 Christchurch Place\, Balfour Street:geo:-0.08556,51.80002
END:VEVENT
BEGIN:VEVENT
DTSTART;TZID=Europe/London:20251006T190000
DTEND;TZID=Europe/London:20251006T220000
DTSTAMP:20260422T100823
CREATED:20250830T134919Z
LAST-MODIFIED:20250830T134919Z
UID:10000978-1759777200-1759788000@cops.org.uk
SUMMARY:Oleanna   Performance
DESCRIPTION:
URL:https://cops.org.uk/event/oleanna-performance/
LOCATION:The Little Theatre\, 6 Christchurch Place\, Balfour Street\, Hertford\, Hertford\, SG14 3BB\, United Kingdom
CATEGORIES:Performance
GEO:51.80002;-0.08556
X-APPLE-STRUCTURED-LOCATION;VALUE=URI;X-ADDRESS=The Little Theatre 6 Christchurch Place Balfour Street Hertford Hertford SG14 3BB United Kingdom;X-APPLE-RADIUS=500;X-TITLE=6 Christchurch Place\, Balfour Street:geo:-0.08556,51.80002
END:VEVENT
BEGIN:VEVENT
DTSTART;TZID=Europe/London:20251004T120000
DTEND;TZID=Europe/London:20251004T230000
DTSTAMP:20260422T100823
CREATED:20250427T094834Z
LAST-MODIFIED:20250715T081927Z
UID:10000841-1759579200-1759618800@cops.org.uk
SUMMARY:Oleanna | Performances 2 & 3 (Matinee & Evening)
DESCRIPTION:
URL:https://cops.org.uk/event/oleanna-performances-2-3/
LOCATION:The Little Theatre\, 6 Christchurch Place\, Balfour Street\, Hertford\, Hertford\, SG14 3BB\, United Kingdom
CATEGORIES:Performance
GEO:51.80002;-0.08556
X-APPLE-STRUCTURED-LOCATION;VALUE=URI;X-ADDRESS=The Little Theatre 6 Christchurch Place Balfour Street Hertford Hertford SG14 3BB United Kingdom;X-APPLE-RADIUS=500;X-TITLE=6 Christchurch Place\, Balfour Street:geo:-0.08556,51.80002
END:VEVENT
BEGIN:VEVENT
DTSTART;TZID=Europe/London:20251003T180000
DTEND;TZID=Europe/London:20251003T230000
DTSTAMP:20260422T100823
CREATED:20250427T094552Z
LAST-MODIFIED:20250715T081832Z
UID:10000840-1759514400-1759532400@cops.org.uk
SUMMARY:Oleanna | Performance 1
DESCRIPTION:
URL:https://cops.org.uk/event/oleanna-performance-1/
LOCATION:The Little Theatre\, 6 Christchurch Place\, Balfour Street\, Hertford\, Hertford\, SG14 3BB\, United Kingdom
CATEGORIES:Performance
GEO:51.80002;-0.08556
X-APPLE-STRUCTURED-LOCATION;VALUE=URI;X-ADDRESS=The Little Theatre 6 Christchurch Place Balfour Street Hertford Hertford SG14 3BB United Kingdom;X-APPLE-RADIUS=500;X-TITLE=6 Christchurch Place\, Balfour Street:geo:-0.08556,51.80002
END:VEVENT
BEGIN:VEVENT
DTSTART;TZID=Europe/London:20251002T190000
DTEND;TZID=Europe/London:20251002T220000
DTSTAMP:20260422T100823
CREATED:20250427T145807Z
LAST-MODIFIED:20250715T082832Z
UID:10000853-1759431600-1759442400@cops.org.uk
SUMMARY:Oleanna | Final Dress Rehearsal
DESCRIPTION:
URL:https://cops.org.uk/event/oleanna-final-dress-rehearsal/
LOCATION:The Little Theatre\, 6 Christchurch Place\, Balfour Street\, Hertford\, Hertford\, SG14 3BB\, United Kingdom
CATEGORIES:Rehearsal
GEO:51.80002;-0.08556
X-APPLE-STRUCTURED-LOCATION;VALUE=URI;X-ADDRESS=The Little Theatre 6 Christchurch Place Balfour Street Hertford Hertford SG14 3BB United Kingdom;X-APPLE-RADIUS=500;X-TITLE=6 Christchurch Place\, Balfour Street:geo:-0.08556,51.80002
END:VEVENT
BEGIN:VEVENT
DTSTART;TZID=Europe/London:20251001T190000
DTEND;TZID=Europe/London:20251001T220000
DTSTAMP:20260422T100823
CREATED:20250427T145303Z
LAST-MODIFIED:20250715T082914Z
UID:10000851-1759345200-1759356000@cops.org.uk
SUMMARY:Oleanna | Photo Run
DESCRIPTION:
URL:https://cops.org.uk/event/oleanna-photo-run/
LOCATION:The Little Theatre\, 6 Christchurch Place\, Balfour Street\, Hertford\, Hertford\, SG14 3BB\, United Kingdom
CATEGORIES:Rehearsal
GEO:51.80002;-0.08556
X-APPLE-STRUCTURED-LOCATION;VALUE=URI;X-ADDRESS=The Little Theatre 6 Christchurch Place Balfour Street Hertford Hertford SG14 3BB United Kingdom;X-APPLE-RADIUS=500;X-TITLE=6 Christchurch Place\, Balfour Street:geo:-0.08556,51.80002
END:VEVENT
BEGIN:VEVENT
DTSTART;TZID=Europe/London:20250930T190000
DTEND;TZID=Europe/London:20250930T220000
DTSTAMP:20260422T100823
CREATED:20250427T145132Z
LAST-MODIFIED:20250715T083018Z
UID:10000850-1759258800-1759269600@cops.org.uk
SUMMARY:Oleanna | Dress Rehearsal
DESCRIPTION:
URL:https://cops.org.uk/event/oleanna-dress-rehearsal/
LOCATION:The Little Theatre\, 6 Christchurch Place\, Balfour Street\, Hertford\, Hertford\, SG14 3BB\, United Kingdom
CATEGORIES:Rehearsal
GEO:51.80002;-0.08556
X-APPLE-STRUCTURED-LOCATION;VALUE=URI;X-ADDRESS=The Little Theatre 6 Christchurch Place Balfour Street Hertford Hertford SG14 3BB United Kingdom;X-APPLE-RADIUS=500;X-TITLE=6 Christchurch Place\, Balfour Street:geo:-0.08556,51.80002
END:VEVENT
BEGIN:VEVENT
DTSTART;TZID=Europe/London:20250929T190000
DTEND;TZID=Europe/London:20250929T223000
DTSTAMP:20260422T100823
CREATED:20250427T144924Z
LAST-MODIFIED:20250715T083049Z
UID:10000849-1759172400-1759185000@cops.org.uk
SUMMARY:Oleanna | Tech Run
DESCRIPTION:
URL:https://cops.org.uk/event/oleanna-tech-run/
LOCATION:The Little Theatre\, 6 Christchurch Place\, Balfour Street\, Hertford\, Hertford\, SG14 3BB\, United Kingdom
CATEGORIES:Rehearsal
GEO:51.80002;-0.08556
X-APPLE-STRUCTURED-LOCATION;VALUE=URI;X-ADDRESS=The Little Theatre 6 Christchurch Place Balfour Street Hertford Hertford SG14 3BB United Kingdom;X-APPLE-RADIUS=500;X-TITLE=6 Christchurch Place\, Balfour Street:geo:-0.08556,51.80002
END:VEVENT
BEGIN:VEVENT
DTSTART;TZID=Europe/London:20250928T180000
DTEND;TZID=Europe/London:20250928T200000
DTSTAMP:20260422T100823
CREATED:20250429T134424Z
LAST-MODIFIED:20250429T134424Z
UID:10000872-1759082400-1759089600@cops.org.uk
SUMMARY:Hobson's Choice Audition. Date provisional
DESCRIPTION:
URL:https://cops.org.uk/event/hobsons-choice-audition-date-provisional-3/
LOCATION:The Little Theatre\, 6 Christchurch Place\, Balfour Street\, Hertford\, Hertford\, SG14 3BB\, United Kingdom
CATEGORIES:Audition
GEO:51.80002;-0.08556
X-APPLE-STRUCTURED-LOCATION;VALUE=URI;X-ADDRESS=The Little Theatre 6 Christchurch Place Balfour Street Hertford Hertford SG14 3BB United Kingdom;X-APPLE-RADIUS=500;X-TITLE=6 Christchurch Place\, Balfour Street:geo:-0.08556,51.80002
END:VEVENT
BEGIN:VEVENT
DTSTART;TZID=Europe/London:20250928T103000
DTEND;TZID=Europe/London:20250928T163000
DTSTAMP:20260422T100823
CREATED:20250715T101313Z
LAST-MODIFIED:20250715T101313Z
UID:10000918-1759055400-1759077000@cops.org.uk
SUMMARY:Oleanna | Rehearsal 20
DESCRIPTION:
URL:https://cops.org.uk/event/oleanna-rehearsal-20/
LOCATION:The Little Theatre\, 6 Christchurch Place\, Balfour Street\, Hertford\, Hertford\, SG14 3BB\, United Kingdom
CATEGORIES:Rehearsal
GEO:51.80002;-0.08556
X-APPLE-STRUCTURED-LOCATION;VALUE=URI;X-ADDRESS=The Little Theatre 6 Christchurch Place Balfour Street Hertford Hertford SG14 3BB United Kingdom;X-APPLE-RADIUS=500;X-TITLE=6 Christchurch Place\, Balfour Street:geo:-0.08556,51.80002
END:VEVENT
BEGIN:VEVENT
DTSTART;TZID=Europe/London:20250927T080000
DTEND;TZID=Europe/London:20250927T170000
DTSTAMP:20260422T100823
CREATED:20250820T105055Z
LAST-MODIFIED:20250820T105055Z
UID:10000973-1758960000-1758992400@cops.org.uk
SUMMARY:Open Day
DESCRIPTION:
URL:https://cops.org.uk/event/open-day-2/
LOCATION:The Little Theatre\, 6 Christchurch Place\, Balfour Street\, Hertford\, Hertford\, SG14 3BB\, United Kingdom
CATEGORIES:Social Event
GEO:51.80002;-0.08556
X-APPLE-STRUCTURED-LOCATION;VALUE=URI;X-ADDRESS=The Little Theatre 6 Christchurch Place Balfour Street Hertford Hertford SG14 3BB United Kingdom;X-APPLE-RADIUS=500;X-TITLE=6 Christchurch Place\, Balfour Street:geo:-0.08556,51.80002
END:VEVENT
BEGIN:VEVENT
DTSTART;TZID=Europe/London:20250926T200000
DTEND;TZID=Europe/London:20250926T220000
DTSTAMP:20260422T100823
CREATED:20250429T134218Z
LAST-MODIFIED:20250429T134218Z
UID:10000871-1758916800-1758924000@cops.org.uk
SUMMARY:Hobson's Choice. Audition. Date provisional
DESCRIPTION:
URL:https://cops.org.uk/event/hobsons-choice-audition-date-provisional-2/
LOCATION:The Little Theatre\, 6 Christchurch Place\, Balfour Street\, Hertford\, Hertford\, SG14 3BB\, United Kingdom
CATEGORIES:Audition
GEO:51.80002;-0.08556
X-APPLE-STRUCTURED-LOCATION;VALUE=URI;X-ADDRESS=The Little Theatre 6 Christchurch Place Balfour Street Hertford Hertford SG14 3BB United Kingdom;X-APPLE-RADIUS=500;X-TITLE=6 Christchurch Place\, Balfour Street:geo:-0.08556,51.80002
END:VEVENT
BEGIN:VEVENT
DTSTART;TZID=Europe/London:20250926T193000
DTEND;TZID=Europe/London:20250926T220000
DTSTAMP:20260422T100823
CREATED:20250715T101245Z
LAST-MODIFIED:20250715T101245Z
UID:10000917-1758915000-1758924000@cops.org.uk
SUMMARY:Oleanna | Rehearsal 19
DESCRIPTION:
URL:https://cops.org.uk/event/oleanna-rehearsal-19/
LOCATION:The Little Theatre\, 6 Christchurch Place\, Balfour Street\, Hertford\, Hertford\, SG14 3BB\, United Kingdom
CATEGORIES:Rehearsal
GEO:51.80002;-0.08556
X-APPLE-STRUCTURED-LOCATION;VALUE=URI;X-ADDRESS=The Little Theatre 6 Christchurch Place Balfour Street Hertford Hertford SG14 3BB United Kingdom;X-APPLE-RADIUS=500;X-TITLE=6 Christchurch Place\, Balfour Street:geo:-0.08556,51.80002
END:VEVENT
BEGIN:VEVENT
DTSTART;TZID=Europe/London:20250925T193000
DTEND;TZID=Europe/London:20250925T220000
DTSTAMP:20260422T100823
CREATED:20250715T100940Z
LAST-MODIFIED:20250715T100940Z
UID:10000916-1758828600-1758837600@cops.org.uk
SUMMARY:Oleanna | Rehearsal 18
DESCRIPTION:
URL:https://cops.org.uk/event/oleanna-rehearsal-18/
LOCATION:The Little Theatre\, 6 Christchurch Place\, Balfour Street\, Hertford\, Hertford\, SG14 3BB\, United Kingdom
CATEGORIES:Rehearsal
GEO:51.80002;-0.08556
X-APPLE-STRUCTURED-LOCATION;VALUE=URI;X-ADDRESS=The Little Theatre 6 Christchurch Place Balfour Street Hertford Hertford SG14 3BB United Kingdom;X-APPLE-RADIUS=500;X-TITLE=6 Christchurch Place\, Balfour Street:geo:-0.08556,51.80002
END:VEVENT
BEGIN:VEVENT
DTSTART;TZID=Europe/London:20250924T193000
DTEND;TZID=Europe/London:20250924T220000
DTSTAMP:20260422T100823
CREATED:20250715T100835Z
LAST-MODIFIED:20250715T100902Z
UID:10000915-1758742200-1758751200@cops.org.uk
SUMMARY:Oleanna | Rehearsal 17
DESCRIPTION:
URL:https://cops.org.uk/event/oleanna-rehearsal-17/
LOCATION:The Little Theatre\, 6 Christchurch Place\, Balfour Street\, Hertford\, Hertford\, SG14 3BB\, United Kingdom
CATEGORIES:Rehearsal
GEO:51.80002;-0.08556
X-APPLE-STRUCTURED-LOCATION;VALUE=URI;X-ADDRESS=The Little Theatre 6 Christchurch Place Balfour Street Hertford Hertford SG14 3BB United Kingdom;X-APPLE-RADIUS=500;X-TITLE=6 Christchurch Place\, Balfour Street:geo:-0.08556,51.80002
END:VEVENT
BEGIN:VEVENT
DTSTART;TZID=Europe/London:20250922T200000
DTEND;TZID=Europe/London:20250922T220000
DTSTAMP:20260422T100823
CREATED:20250429T133940Z
LAST-MODIFIED:20250429T133940Z
UID:10000870-1758571200-1758578400@cops.org.uk
SUMMARY:Hobson's Choice Audition. Date provisional
DESCRIPTION:
URL:https://cops.org.uk/event/hobsons-choice-audition-date-provisional/
LOCATION:The Little Theatre\, 6 Christchurch Place\, Balfour Street\, Hertford\, Hertford\, SG14 3BB\, United Kingdom
GEO:51.80002;-0.08556
X-APPLE-STRUCTURED-LOCATION;VALUE=URI;X-ADDRESS=The Little Theatre 6 Christchurch Place Balfour Street Hertford Hertford SG14 3BB United Kingdom;X-APPLE-RADIUS=500;X-TITLE=6 Christchurch Place\, Balfour Street:geo:-0.08556,51.80002
END:VEVENT
BEGIN:VEVENT
DTSTART;TZID=Europe/London:20250921T130000
DTEND;TZID=Europe/London:20250921T170000
DTSTAMP:20260422T100823
CREATED:20250715T100812Z
LAST-MODIFIED:20250715T100812Z
UID:10000914-1758459600-1758474000@cops.org.uk
SUMMARY:Oleanna | Rehearsal 16
DESCRIPTION:
URL:https://cops.org.uk/event/oleanna-rehearsal-16/
LOCATION:The Little Theatre\, 6 Christchurch Place\, Balfour Street\, Hertford\, Hertford\, SG14 3BB\, United Kingdom
GEO:51.80002;-0.08556
X-APPLE-STRUCTURED-LOCATION;VALUE=URI;X-ADDRESS=The Little Theatre 6 Christchurch Place Balfour Street Hertford Hertford SG14 3BB United Kingdom;X-APPLE-RADIUS=500;X-TITLE=6 Christchurch Place\, Balfour Street:geo:-0.08556,51.80002
END:VEVENT
BEGIN:VEVENT
DTSTART;TZID=Europe/London:20250921T110000
DTEND;TZID=Europe/London:20250921T140000
DTSTAMP:20260422T100823
CREATED:20250823T182542Z
LAST-MODIFIED:20250823T182542Z
UID:10000977-1758452400-1758463200@cops.org.uk
SUMMARY:And then there were none
DESCRIPTION:
URL:https://cops.org.uk/event/and-then-there-were-none-12/
LOCATION:CoPs Foyer
CATEGORIES:Rehearsal
END:VEVENT
BEGIN:VEVENT
DTSTART;TZID=Europe/London:20250919T193000
DTEND;TZID=Europe/London:20250919T220000
DTSTAMP:20260422T100823
CREATED:20250715T100717Z
LAST-MODIFIED:20250715T100753Z
UID:10000913-1758310200-1758319200@cops.org.uk
SUMMARY:Oleanna | Rehearsal 15
DESCRIPTION:
URL:https://cops.org.uk/event/oleanna-rehearsal-15/
LOCATION:The Little Theatre\, 6 Christchurch Place\, Balfour Street\, Hertford\, Hertford\, SG14 3BB\, United Kingdom
CATEGORIES:Rehearsal
GEO:51.80002;-0.08556
X-APPLE-STRUCTURED-LOCATION;VALUE=URI;X-ADDRESS=The Little Theatre 6 Christchurch Place Balfour Street Hertford Hertford SG14 3BB United Kingdom;X-APPLE-RADIUS=500;X-TITLE=6 Christchurch Place\, Balfour Street:geo:-0.08556,51.80002
END:VEVENT
BEGIN:VEVENT
DTSTART;TZID=Europe/London:20250918T193000
DTEND;TZID=Europe/London:20250918T220000
DTSTAMP:20260422T100823
CREATED:20250715T100645Z
LAST-MODIFIED:20250715T100645Z
UID:10000912-1758223800-1758232800@cops.org.uk
SUMMARY:Oleanna | Rehearsal 14
DESCRIPTION:
URL:https://cops.org.uk/event/oleanna-rehearsal-14/
LOCATION:The Little Theatre\, 6 Christchurch Place\, Balfour Street\, Hertford\, Hertford\, SG14 3BB\, United Kingdom
CATEGORIES:Rehearsal
GEO:51.80002;-0.08556
X-APPLE-STRUCTURED-LOCATION;VALUE=URI;X-ADDRESS=The Little Theatre 6 Christchurch Place Balfour Street Hertford Hertford SG14 3BB United Kingdom;X-APPLE-RADIUS=500;X-TITLE=6 Christchurch Place\, Balfour Street:geo:-0.08556,51.80002
END:VEVENT
BEGIN:VEVENT
DTSTART;TZID=Europe/London:20250917T193000
DTEND;TZID=Europe/London:20250917T220000
DTSTAMP:20260422T100823
CREATED:20250715T100453Z
LAST-MODIFIED:20250715T100618Z
UID:10000911-1758137400-1758146400@cops.org.uk
SUMMARY:Oleanna | Rehearsal 13
DESCRIPTION:
URL:https://cops.org.uk/event/oleanna-rehearsal-13/
LOCATION:The Little Theatre\, 6 Christchurch Place\, Balfour Street\, Hertford\, Hertford\, SG14 3BB\, United Kingdom
CATEGORIES:Rehearsal
GEO:51.80002;-0.08556
X-APPLE-STRUCTURED-LOCATION;VALUE=URI;X-ADDRESS=The Little Theatre 6 Christchurch Place Balfour Street Hertford Hertford SG14 3BB United Kingdom;X-APPLE-RADIUS=500;X-TITLE=6 Christchurch Place\, Balfour Street:geo:-0.08556,51.80002
END:VEVENT
BEGIN:VEVENT
DTSTART;TZID=Europe/London:20250916T193000
DTEND;TZID=Europe/London:20250916T223000
DTSTAMP:20260422T100823
CREATED:20250820T104947Z
LAST-MODIFIED:20250820T104947Z
UID:10000972-1758051000-1758061800@cops.org.uk
SUMMARY:Management Committee Meeting
DESCRIPTION:
URL:https://cops.org.uk/event/management-committee-meeting-8/
LOCATION:The Little Theatre\, 6 Christchurch Place\, Balfour Street\, Hertford\, Hertford\, SG14 3BB\, United Kingdom
CATEGORIES:Meeting
GEO:51.80002;-0.08556
X-APPLE-STRUCTURED-LOCATION;VALUE=URI;X-ADDRESS=The Little Theatre 6 Christchurch Place Balfour Street Hertford Hertford SG14 3BB United Kingdom;X-APPLE-RADIUS=500;X-TITLE=6 Christchurch Place\, Balfour Street:geo:-0.08556,51.80002
END:VEVENT
END:VCALENDAR