BEGIN:VCALENDAR
VERSION:2.0
PRODID:-//The Company of Players (Hertford) - ECPv6.15.20//NONSGML v1.0//EN
CALSCALE:GREGORIAN
METHOD:PUBLISH
X-WR-CALNAME:The Company of Players (Hertford)
X-ORIGINAL-URL:https://cops.org.uk
X-WR-CALDESC:Events for The Company of Players (Hertford)
REFRESH-INTERVAL;VALUE=DURATION:PT1H
X-Robots-Tag:noindex
X-PUBLISHED-TTL:PT1H
BEGIN:VTIMEZONE
TZID:Europe/London
BEGIN:DAYLIGHT
TZOFFSETFROM:+0000
TZOFFSETTO:+0100
TZNAME:BST
DTSTART:20240331T010000
END:DAYLIGHT
BEGIN:STANDARD
TZOFFSETFROM:+0100
TZOFFSETTO:+0000
TZNAME:GMT
DTSTART:20241027T010000
END:STANDARD
BEGIN:DAYLIGHT
TZOFFSETFROM:+0000
TZOFFSETTO:+0100
TZNAME:BST
DTSTART:20250330T010000
END:DAYLIGHT
BEGIN:STANDARD
TZOFFSETFROM:+0100
TZOFFSETTO:+0000
TZNAME:GMT
DTSTART:20251026T010000
END:STANDARD
BEGIN:DAYLIGHT
TZOFFSETFROM:+0000
TZOFFSETTO:+0100
TZNAME:BST
DTSTART:20260329T010000
END:DAYLIGHT
BEGIN:STANDARD
TZOFFSETFROM:+0100
TZOFFSETTO:+0000
TZNAME:GMT
DTSTART:20261025T010000
END:STANDARD
END:VTIMEZONE
BEGIN:VEVENT
DTSTART;TZID=Europe/London:20251130T173000
DTEND;TZID=Europe/London:20251130T193000
DTSTAMP:20260422T050911
CREATED:20251126T100005Z
LAST-MODIFIED:20251126T100005Z
UID:10001065-1764523800-1764531000@cops.org.uk
SUMMARY:Stage floor painting
DESCRIPTION:
URL:https://cops.org.uk/event/stage-floor-painting/
LOCATION:The Little Theatre\, 6 Christchurch Place\, Balfour Street\, Hertford\, Hertford\, SG14 3BB\, United Kingdom
CATEGORIES:Maintenance
GEO:51.80002;-0.08556
X-APPLE-STRUCTURED-LOCATION;VALUE=URI;X-ADDRESS=The Little Theatre 6 Christchurch Place Balfour Street Hertford Hertford SG14 3BB United Kingdom;X-APPLE-RADIUS=500;X-TITLE=6 Christchurch Place\, Balfour Street:geo:-0.08556,51.80002
END:VEVENT
BEGIN:VEVENT
DTSTART;TZID=Europe/London:20251130T103000
DTEND;TZID=Europe/London:20251130T163000
DTSTAMP:20260422T050911
CREATED:20251001T134522Z
LAST-MODIFIED:20251125T095939Z
UID:10001006-1764498600-1764520200@cops.org.uk
SUMMARY:And Then There Were None - Rehearsal
DESCRIPTION:
URL:https://cops.org.uk/event/and-then-there-were-none-rehearsal-21/
LOCATION:The Little Theatre\, 6 Christchurch Place\, Balfour Street\, Hertford\, Hertford\, SG14 3BB\, United Kingdom
CATEGORIES:Rehearsal
GEO:51.80002;-0.08556
X-APPLE-STRUCTURED-LOCATION;VALUE=URI;X-ADDRESS=The Little Theatre 6 Christchurch Place Balfour Street Hertford Hertford SG14 3BB United Kingdom;X-APPLE-RADIUS=500;X-TITLE=6 Christchurch Place\, Balfour Street:geo:-0.08556,51.80002
END:VEVENT
BEGIN:VEVENT
DTSTART;TZID=Europe/London:20251127T193000
DTEND;TZID=Europe/London:20251127T223000
DTSTAMP:20260422T050911
CREATED:20251001T134435Z
LAST-MODIFIED:20251125T095939Z
UID:10001005-1764271800-1764282600@cops.org.uk
SUMMARY:And Then There Were None - Rehearsal
DESCRIPTION:
URL:https://cops.org.uk/event/and-then-there-were-none-rehearsal-20/
LOCATION:The Little Theatre\, 6 Christchurch Place\, Balfour Street\, Hertford\, Hertford\, SG14 3BB\, United Kingdom
CATEGORIES:Rehearsal
GEO:51.80002;-0.08556
X-APPLE-STRUCTURED-LOCATION;VALUE=URI;X-ADDRESS=The Little Theatre 6 Christchurch Place Balfour Street Hertford Hertford SG14 3BB United Kingdom;X-APPLE-RADIUS=500;X-TITLE=6 Christchurch Place\, Balfour Street:geo:-0.08556,51.80002
END:VEVENT
BEGIN:VEVENT
DTSTART;TZID=Europe/London:20251126T200000
DTEND;TZID=Europe/London:20251126T220000
DTSTAMP:20260422T050911
CREATED:20251108T063006Z
LAST-MODIFIED:20251108T063006Z
UID:10001064-1764187200-1764194400@cops.org.uk
SUMMARY:Deep Blue Sea  audition
DESCRIPTION:
URL:https://cops.org.uk/event/deep-blue-sea-audition-3/
LOCATION:The Little Theatre\, 6 Christchurch Place\, Balfour Street\, Hertford\, Hertford\, SG14 3BB\, United Kingdom
CATEGORIES:Audition
GEO:51.80002;-0.08556
X-APPLE-STRUCTURED-LOCATION;VALUE=URI;X-ADDRESS=The Little Theatre 6 Christchurch Place Balfour Street Hertford Hertford SG14 3BB United Kingdom;X-APPLE-RADIUS=500;X-TITLE=6 Christchurch Place\, Balfour Street:geo:-0.08556,51.80002
END:VEVENT
BEGIN:VEVENT
DTSTART;TZID=Europe/London:20251126T193000
DTEND;TZID=Europe/London:20251126T223000
DTSTAMP:20260422T050911
CREATED:20251001T134346Z
LAST-MODIFIED:20251125T095939Z
UID:10001004-1764185400-1764196200@cops.org.uk
SUMMARY:And Then There Were None - Rehearsal
DESCRIPTION:
URL:https://cops.org.uk/event/and-then-there-were-none-rehearsal-19/
LOCATION:The Little Theatre\, 6 Christchurch Place\, Balfour Street\, Hertford\, Hertford\, SG14 3BB\, United Kingdom
CATEGORIES:Rehearsal
GEO:51.80002;-0.08556
X-APPLE-STRUCTURED-LOCATION;VALUE=URI;X-ADDRESS=The Little Theatre 6 Christchurch Place Balfour Street Hertford Hertford SG14 3BB United Kingdom;X-APPLE-RADIUS=500;X-TITLE=6 Christchurch Place\, Balfour Street:geo:-0.08556,51.80002
END:VEVENT
BEGIN:VEVENT
DTSTART;TZID=Europe/London:20251125T193000
DTEND;TZID=Europe/London:20251125T223000
DTSTAMP:20260422T050911
CREATED:20251001T134306Z
LAST-MODIFIED:20251001T134306Z
UID:10001003-1764099000-1764109800@cops.org.uk
SUMMARY:And Then There Were None - Rehearsal
DESCRIPTION:
URL:https://cops.org.uk/event/and-then-there-were-none-rehearsal-18/
LOCATION:The Little Theatre\, 6 Christchurch Place\, Balfour Street\, Hertford\, Hertford\, SG14 3BB\, United Kingdom
GEO:51.80002;-0.08556
X-APPLE-STRUCTURED-LOCATION;VALUE=URI;X-ADDRESS=The Little Theatre 6 Christchurch Place Balfour Street Hertford Hertford SG14 3BB United Kingdom;X-APPLE-RADIUS=500;X-TITLE=6 Christchurch Place\, Balfour Street:geo:-0.08556,51.80002
END:VEVENT
BEGIN:VEVENT
DTSTART;TZID=Europe/London:20251124T200000
DTEND;TZID=Europe/London:20251124T220000
DTSTAMP:20260422T050911
CREATED:20251108T062827Z
LAST-MODIFIED:20251108T062827Z
UID:10001063-1764014400-1764021600@cops.org.uk
SUMMARY:Deep Blue Sea  audition
DESCRIPTION:
URL:https://cops.org.uk/event/deep-blue-sea-audition-2/
LOCATION:The Little Theatre\, 6 Christchurch Place\, Balfour Street\, Hertford\, Hertford\, SG14 3BB\, United Kingdom
CATEGORIES:Audition
GEO:51.80002;-0.08556
X-APPLE-STRUCTURED-LOCATION;VALUE=URI;X-ADDRESS=The Little Theatre 6 Christchurch Place Balfour Street Hertford Hertford SG14 3BB United Kingdom;X-APPLE-RADIUS=500;X-TITLE=6 Christchurch Place\, Balfour Street:geo:-0.08556,51.80002
END:VEVENT
BEGIN:VEVENT
DTSTART;TZID=Europe/London:20251123T150000
DTEND;TZID=Europe/London:20251123T170000
DTSTAMP:20260422T050911
CREATED:20251108T062646Z
LAST-MODIFIED:20251108T062646Z
UID:10001062-1763910000-1763917200@cops.org.uk
SUMMARY:Deep Blue Sea audition
DESCRIPTION:
URL:https://cops.org.uk/event/deep-blue-sea-audition/
LOCATION:The Little Theatre\, 6 Christchurch Place\, Balfour Street\, Hertford\, Hertford\, SG14 3BB\, United Kingdom
CATEGORIES:Audition
GEO:51.80002;-0.08556
X-APPLE-STRUCTURED-LOCATION;VALUE=URI;X-ADDRESS=The Little Theatre 6 Christchurch Place Balfour Street Hertford Hertford SG14 3BB United Kingdom;X-APPLE-RADIUS=500;X-TITLE=6 Christchurch Place\, Balfour Street:geo:-0.08556,51.80002
END:VEVENT
BEGIN:VEVENT
DTSTART;TZID=Europe/London:20251123T130000
DTEND;TZID=Europe/London:20251123T180000
DTSTAMP:20260422T050911
CREATED:20251001T134219Z
LAST-MODIFIED:20251001T134219Z
UID:10001002-1763902800-1763920800@cops.org.uk
SUMMARY:And Then There Were None - Rehearsal
DESCRIPTION:
URL:https://cops.org.uk/event/and-then-there-were-none-rehearsal-17/
LOCATION:The Little Theatre\, 6 Christchurch Place\, Balfour Street\, Hertford\, Hertford\, SG14 3BB\, United Kingdom
GEO:51.80002;-0.08556
X-APPLE-STRUCTURED-LOCATION;VALUE=URI;X-ADDRESS=The Little Theatre 6 Christchurch Place Balfour Street Hertford Hertford SG14 3BB United Kingdom;X-APPLE-RADIUS=500;X-TITLE=6 Christchurch Place\, Balfour Street:geo:-0.08556,51.80002
END:VEVENT
BEGIN:VEVENT
DTSTART;TZID=Europe/London:20251120T193000
DTEND;TZID=Europe/London:20251120T223000
DTSTAMP:20260422T050911
CREATED:20251001T134131Z
LAST-MODIFIED:20251001T134131Z
UID:10001001-1763667000-1763677800@cops.org.uk
SUMMARY:And Then There Were None - Rehearsal
DESCRIPTION:
URL:https://cops.org.uk/event/and-then-there-were-none-rehearsal-16/
LOCATION:The Little Theatre\, 6 Christchurch Place\, Balfour Street\, Hertford\, Hertford\, SG14 3BB\, United Kingdom
GEO:51.80002;-0.08556
X-APPLE-STRUCTURED-LOCATION;VALUE=URI;X-ADDRESS=The Little Theatre 6 Christchurch Place Balfour Street Hertford Hertford SG14 3BB United Kingdom;X-APPLE-RADIUS=500;X-TITLE=6 Christchurch Place\, Balfour Street:geo:-0.08556,51.80002
END:VEVENT
BEGIN:VEVENT
DTSTART;TZID=Europe/London:20251118T193000
DTEND;TZID=Europe/London:20251118T223000
DTSTAMP:20260422T050911
CREATED:20251001T134042Z
LAST-MODIFIED:20251001T134042Z
UID:10001000-1763494200-1763505000@cops.org.uk
SUMMARY:And Then There Were None - Rehearsal
DESCRIPTION:
URL:https://cops.org.uk/event/and-then-there-were-none-rehearsal-15/
LOCATION:The Little Theatre\, 6 Christchurch Place\, Balfour Street\, Hertford\, Hertford\, SG14 3BB\, United Kingdom
GEO:51.80002;-0.08556
X-APPLE-STRUCTURED-LOCATION;VALUE=URI;X-ADDRESS=The Little Theatre 6 Christchurch Place Balfour Street Hertford Hertford SG14 3BB United Kingdom;X-APPLE-RADIUS=500;X-TITLE=6 Christchurch Place\, Balfour Street:geo:-0.08556,51.80002
END:VEVENT
BEGIN:VEVENT
DTSTART;TZID=Europe/London:20251116T130000
DTEND;TZID=Europe/London:20251116T170000
DTSTAMP:20260422T050911
CREATED:20251001T133954Z
LAST-MODIFIED:20251001T133954Z
UID:10000999-1763298000-1763312400@cops.org.uk
SUMMARY:And Then There Were None - Rehearsal
DESCRIPTION:
URL:https://cops.org.uk/event/and-then-there-were-none-rehearsal-14/
LOCATION:The Little Theatre\, 6 Christchurch Place\, Balfour Street\, Hertford\, Hertford\, SG14 3BB\, United Kingdom
GEO:51.80002;-0.08556
X-APPLE-STRUCTURED-LOCATION;VALUE=URI;X-ADDRESS=The Little Theatre 6 Christchurch Place Balfour Street Hertford Hertford SG14 3BB United Kingdom;X-APPLE-RADIUS=500;X-TITLE=6 Christchurch Place\, Balfour Street:geo:-0.08556,51.80002
END:VEVENT
BEGIN:VEVENT
DTSTART;TZID=Europe/London:20251116T100000
DTEND;TZID=Europe/London:20251116T130000
DTSTAMP:20260422T050911
CREATED:20251102T091926Z
LAST-MODIFIED:20251102T091926Z
UID:10001028-1763287200-1763298000@cops.org.uk
SUMMARY:Hobson's Choice read through
DESCRIPTION:
URL:https://cops.org.uk/event/hobsons-choice-read-through/
LOCATION:Theatre Foyer
CATEGORIES:Rehearsal
END:VEVENT
BEGIN:VEVENT
DTSTART;TZID=Europe/London:20251113T193000
DTEND;TZID=Europe/London:20251113T223000
DTSTAMP:20260422T050911
CREATED:20251001T133915Z
LAST-MODIFIED:20251001T133915Z
UID:10000998-1763062200-1763073000@cops.org.uk
SUMMARY:And Then There Were None - Rehearsal
DESCRIPTION:
URL:https://cops.org.uk/event/and-then-there-were-none-rehearsal-13/
LOCATION:The Little Theatre\, 6 Christchurch Place\, Balfour Street\, Hertford\, Hertford\, SG14 3BB\, United Kingdom
GEO:51.80002;-0.08556
X-APPLE-STRUCTURED-LOCATION;VALUE=URI;X-ADDRESS=The Little Theatre 6 Christchurch Place Balfour Street Hertford Hertford SG14 3BB United Kingdom;X-APPLE-RADIUS=500;X-TITLE=6 Christchurch Place\, Balfour Street:geo:-0.08556,51.80002
END:VEVENT
BEGIN:VEVENT
DTSTART;TZID=Europe/London:20251112T193000
DTEND;TZID=Europe/London:20251112T220000
DTSTAMP:20260422T050911
CREATED:20251102T091530Z
LAST-MODIFIED:20251102T091530Z
UID:10001027-1762975800-1762984800@cops.org.uk
SUMMARY:Committee Meeting
DESCRIPTION:
URL:https://cops.org.uk/event/committee-meeting-9/
LOCATION:The Little Theatre\, 6 Christchurch Place\, Balfour Street\, Hertford\, Hertford\, SG14 3BB\, United Kingdom
CATEGORIES:Meeting
GEO:51.80002;-0.08556
X-APPLE-STRUCTURED-LOCATION;VALUE=URI;X-ADDRESS=The Little Theatre 6 Christchurch Place Balfour Street Hertford Hertford SG14 3BB United Kingdom;X-APPLE-RADIUS=500;X-TITLE=6 Christchurch Place\, Balfour Street:geo:-0.08556,51.80002
END:VEVENT
BEGIN:VEVENT
DTSTART;TZID=Europe/London:20251111T193000
DTEND;TZID=Europe/London:20251111T223000
DTSTAMP:20260422T050911
CREATED:20251001T133830Z
LAST-MODIFIED:20251001T133830Z
UID:10000997-1762889400-1762900200@cops.org.uk
SUMMARY:And Then There Were None - Rehearsal
DESCRIPTION:
URL:https://cops.org.uk/event/and-then-there-were-none-rehearsal-12/
LOCATION:The Little Theatre\, 6 Christchurch Place\, Balfour Street\, Hertford\, Hertford\, SG14 3BB\, United Kingdom
GEO:51.80002;-0.08556
X-APPLE-STRUCTURED-LOCATION;VALUE=URI;X-ADDRESS=The Little Theatre 6 Christchurch Place Balfour Street Hertford Hertford SG14 3BB United Kingdom;X-APPLE-RADIUS=500;X-TITLE=6 Christchurch Place\, Balfour Street:geo:-0.08556,51.80002
END:VEVENT
BEGIN:VEVENT
DTSTART;TZID=Europe/London:20251109T130000
DTEND;TZID=Europe/London:20251109T170000
DTSTAMP:20260422T050911
CREATED:20251001T133737Z
LAST-MODIFIED:20251001T133737Z
UID:10000996-1762693200-1762707600@cops.org.uk
SUMMARY:And Then There Were None - Rehearsal
DESCRIPTION:
URL:https://cops.org.uk/event/and-then-there-were-none-rehearsal-11/
LOCATION:The Little Theatre\, 6 Christchurch Place\, Balfour Street\, Hertford\, Hertford\, SG14 3BB\, United Kingdom
GEO:51.80002;-0.08556
X-APPLE-STRUCTURED-LOCATION;VALUE=URI;X-ADDRESS=The Little Theatre 6 Christchurch Place Balfour Street Hertford Hertford SG14 3BB United Kingdom;X-APPLE-RADIUS=500;X-TITLE=6 Christchurch Place\, Balfour Street:geo:-0.08556,51.80002
END:VEVENT
BEGIN:VEVENT
DTSTART;TZID=Europe/London:20251106T193000
DTEND;TZID=Europe/London:20251106T223000
DTSTAMP:20260422T050911
CREATED:20251001T133700Z
LAST-MODIFIED:20251001T133700Z
UID:10000995-1762457400-1762468200@cops.org.uk
SUMMARY:And Then There Were None - Rehearsal
DESCRIPTION:
URL:https://cops.org.uk/event/and-then-there-were-none-rehearsal-10/
LOCATION:The Little Theatre\, 6 Christchurch Place\, Balfour Street\, Hertford\, Hertford\, SG14 3BB\, United Kingdom
GEO:51.80002;-0.08556
X-APPLE-STRUCTURED-LOCATION;VALUE=URI;X-ADDRESS=The Little Theatre 6 Christchurch Place Balfour Street Hertford Hertford SG14 3BB United Kingdom;X-APPLE-RADIUS=500;X-TITLE=6 Christchurch Place\, Balfour Street:geo:-0.08556,51.80002
END:VEVENT
BEGIN:VEVENT
DTSTART;TZID=Europe/London:20251106T093000
DTEND;TZID=Europe/London:20251106T170000
DTSTAMP:20260422T050911
CREATED:20251103T211629Z
LAST-MODIFIED:20251103T211629Z
UID:10001058-1762421400-1762448400@cops.org.uk
SUMMARY:Lights Rigging
DESCRIPTION:
URL:https://cops.org.uk/event/lights-rigging/
LOCATION:The Little Theatre\, 6 Christchurch Place\, Balfour Street\, Hertford\, Hertford\, SG14 3BB\, United Kingdom
GEO:51.80002;-0.08556
X-APPLE-STRUCTURED-LOCATION;VALUE=URI;X-ADDRESS=The Little Theatre 6 Christchurch Place Balfour Street Hertford Hertford SG14 3BB United Kingdom;X-APPLE-RADIUS=500;X-TITLE=6 Christchurch Place\, Balfour Street:geo:-0.08556,51.80002
END:VEVENT
BEGIN:VEVENT
DTSTART;TZID=Europe/London:20251105T193000
DTEND;TZID=Europe/London:20251105T223000
DTSTAMP:20260422T050911
CREATED:20251019T212916Z
LAST-MODIFIED:20251019T212916Z
UID:10001026-1762371000-1762381800@cops.org.uk
SUMMARY:Theatre Development Meeting
DESCRIPTION:
URL:https://cops.org.uk/event/theatre-development-meeting-6/
LOCATION:The Little Theatre\, 6 Christchurch Place\, Balfour Street\, Hertford\, Hertford\, SG14 3BB\, United Kingdom
GEO:51.80002;-0.08556
X-APPLE-STRUCTURED-LOCATION;VALUE=URI;X-ADDRESS=The Little Theatre 6 Christchurch Place Balfour Street Hertford Hertford SG14 3BB United Kingdom;X-APPLE-RADIUS=500;X-TITLE=6 Christchurch Place\, Balfour Street:geo:-0.08556,51.80002
END:VEVENT
BEGIN:VEVENT
DTSTART;TZID=Europe/London:20251104T193000
DTEND;TZID=Europe/London:20251104T223000
DTSTAMP:20260422T050911
CREATED:20251001T133613Z
LAST-MODIFIED:20251001T133613Z
UID:10000994-1762284600-1762295400@cops.org.uk
SUMMARY:And Then There Were None - Rehearsal
DESCRIPTION:
URL:https://cops.org.uk/event/and-then-there-were-none-rehearsal-9/
LOCATION:The Little Theatre\, 6 Christchurch Place\, Balfour Street\, Hertford\, Hertford\, SG14 3BB\, United Kingdom
GEO:51.80002;-0.08556
X-APPLE-STRUCTURED-LOCATION;VALUE=URI;X-ADDRESS=The Little Theatre 6 Christchurch Place Balfour Street Hertford Hertford SG14 3BB United Kingdom;X-APPLE-RADIUS=500;X-TITLE=6 Christchurch Place\, Balfour Street:geo:-0.08556,51.80002
END:VEVENT
BEGIN:VEVENT
DTSTART;TZID=Europe/London:20251102T130000
DTEND;TZID=Europe/London:20251102T170000
DTSTAMP:20260422T050911
CREATED:20251001T133526Z
LAST-MODIFIED:20251001T133526Z
UID:10000993-1762088400-1762102800@cops.org.uk
SUMMARY:And Then There Were None - Rehearsal
DESCRIPTION:
URL:https://cops.org.uk/event/and-then-there-were-none-rehearsal-8/
LOCATION:The Little Theatre\, 6 Christchurch Place\, Balfour Street\, Hertford\, Hertford\, SG14 3BB\, United Kingdom
GEO:51.80002;-0.08556
X-APPLE-STRUCTURED-LOCATION;VALUE=URI;X-ADDRESS=The Little Theatre 6 Christchurch Place Balfour Street Hertford Hertford SG14 3BB United Kingdom;X-APPLE-RADIUS=500;X-TITLE=6 Christchurch Place\, Balfour Street:geo:-0.08556,51.80002
END:VEVENT
BEGIN:VEVENT
DTSTART;TZID=Europe/London:20251030T193000
DTEND;TZID=Europe/London:20251030T223000
DTSTAMP:20260422T050911
CREATED:20251001T133432Z
LAST-MODIFIED:20251001T133432Z
UID:10000992-1761852600-1761863400@cops.org.uk
SUMMARY:And Then There Were None - Rehearsal
DESCRIPTION:
URL:https://cops.org.uk/event/and-then-there-were-none-rehearsal-7/
LOCATION:The Little Theatre\, 6 Christchurch Place\, Balfour Street\, Hertford\, Hertford\, SG14 3BB\, United Kingdom
GEO:51.80002;-0.08556
X-APPLE-STRUCTURED-LOCATION;VALUE=URI;X-ADDRESS=The Little Theatre 6 Christchurch Place Balfour Street Hertford Hertford SG14 3BB United Kingdom;X-APPLE-RADIUS=500;X-TITLE=6 Christchurch Place\, Balfour Street:geo:-0.08556,51.80002
END:VEVENT
BEGIN:VEVENT
DTSTART;TZID=Europe/London:20251028T193000
DTEND;TZID=Europe/London:20251028T223000
DTSTAMP:20260422T050911
CREATED:20251001T133320Z
LAST-MODIFIED:20251001T133320Z
UID:10000991-1761679800-1761690600@cops.org.uk
SUMMARY:And Then There Were None - Rehearsal
DESCRIPTION:
URL:https://cops.org.uk/event/and-then-there-were-none-rehearsal-6/
LOCATION:The Little Theatre\, 6 Christchurch Place\, Balfour Street\, Hertford\, Hertford\, SG14 3BB\, United Kingdom
GEO:51.80002;-0.08556
X-APPLE-STRUCTURED-LOCATION;VALUE=URI;X-ADDRESS=The Little Theatre 6 Christchurch Place Balfour Street Hertford Hertford SG14 3BB United Kingdom;X-APPLE-RADIUS=500;X-TITLE=6 Christchurch Place\, Balfour Street:geo:-0.08556,51.80002
END:VEVENT
BEGIN:VEVENT
DTSTART;TZID=Europe/London:20251026T130000
DTEND;TZID=Europe/London:20251026T170000
DTSTAMP:20260422T050911
CREATED:20251001T133114Z
LAST-MODIFIED:20251001T133114Z
UID:10000990-1761483600-1761498000@cops.org.uk
SUMMARY:And Then There Were None - Rehearsal
DESCRIPTION:
URL:https://cops.org.uk/event/and-then-there-were-none-rehearsal-5/
LOCATION:The Little Theatre\, 6 Christchurch Place\, Balfour Street\, Hertford\, Hertford\, SG14 3BB\, United Kingdom
GEO:51.80002;-0.08556
X-APPLE-STRUCTURED-LOCATION;VALUE=URI;X-ADDRESS=The Little Theatre 6 Christchurch Place Balfour Street Hertford Hertford SG14 3BB United Kingdom;X-APPLE-RADIUS=500;X-TITLE=6 Christchurch Place\, Balfour Street:geo:-0.08556,51.80002
END:VEVENT
BEGIN:VEVENT
DTSTART;TZID=Europe/London:20251025T180000
DTEND;TZID=Europe/London:20251025T223000
DTSTAMP:20260422T050911
CREATED:20250414T104659Z
LAST-MODIFIED:20250414T104659Z
UID:10000837-1761415200-1761431400@cops.org.uk
SUMMARY:Cabin Pressure  Barn guest production
DESCRIPTION:
URL:https://cops.org.uk/event/cabin-pressure-barn-guest-production-4/
LOCATION:The Little Theatre\, 6 Christchurch Place\, Balfour Street\, Hertford\, Hertford\, SG14 3BB\, United Kingdom
CATEGORIES:Performance
GEO:51.80002;-0.08556
X-APPLE-STRUCTURED-LOCATION;VALUE=URI;X-ADDRESS=The Little Theatre 6 Christchurch Place Balfour Street Hertford Hertford SG14 3BB United Kingdom;X-APPLE-RADIUS=500;X-TITLE=6 Christchurch Place\, Balfour Street:geo:-0.08556,51.80002
END:VEVENT
BEGIN:VEVENT
DTSTART;TZID=Europe/London:20251024T180000
DTEND;TZID=Europe/London:20251024T223000
DTSTAMP:20260422T050911
CREATED:20250414T104520Z
LAST-MODIFIED:20250414T104520Z
UID:10000836-1761328800-1761345000@cops.org.uk
SUMMARY:Cabin Pressure  Barn guest production
DESCRIPTION:
URL:https://cops.org.uk/event/cabin-pressure-barn-guest-production-3/
LOCATION:The Little Theatre\, 6 Christchurch Place\, Balfour Street\, Hertford\, Hertford\, SG14 3BB\, United Kingdom
CATEGORIES:Performance
GEO:51.80002;-0.08556
X-APPLE-STRUCTURED-LOCATION;VALUE=URI;X-ADDRESS=The Little Theatre 6 Christchurch Place Balfour Street Hertford Hertford SG14 3BB United Kingdom;X-APPLE-RADIUS=500;X-TITLE=6 Christchurch Place\, Balfour Street:geo:-0.08556,51.80002
END:VEVENT
BEGIN:VEVENT
DTSTART;TZID=Europe/London:20251023T180000
DTEND;TZID=Europe/London:20251023T223000
DTSTAMP:20260422T050911
CREATED:20250414T104324Z
LAST-MODIFIED:20250414T104324Z
UID:10000835-1761242400-1761258600@cops.org.uk
SUMMARY:Cabin Pressure Barn guest production
DESCRIPTION:
URL:https://cops.org.uk/event/cabin-pressure-barn-guest-production-2/
LOCATION:The Little Theatre\, 6 Christchurch Place\, Balfour Street\, Hertford\, Hertford\, SG14 3BB\, United Kingdom
CATEGORIES:Performance
GEO:51.80002;-0.08556
X-APPLE-STRUCTURED-LOCATION;VALUE=URI;X-ADDRESS=The Little Theatre 6 Christchurch Place Balfour Street Hertford Hertford SG14 3BB United Kingdom;X-APPLE-RADIUS=500;X-TITLE=6 Christchurch Place\, Balfour Street:geo:-0.08556,51.80002
END:VEVENT
BEGIN:VEVENT
DTSTART;TZID=Europe/London:20251022T180000
DTEND;TZID=Europe/London:20251022T223000
DTSTAMP:20260422T050911
CREATED:20250414T090752Z
LAST-MODIFIED:20250414T090752Z
UID:10000834-1761156000-1761172200@cops.org.uk
SUMMARY:Cabin Pressure Barn Guest Production
DESCRIPTION:
URL:https://cops.org.uk/event/cabin-pressure-barn-guest-production/
LOCATION:The Little Theatre\, 6 Christchurch Place\, Balfour Street\, Hertford\, Hertford\, SG14 3BB\, United Kingdom
CATEGORIES:Performance
GEO:51.80002;-0.08556
X-APPLE-STRUCTURED-LOCATION;VALUE=URI;X-ADDRESS=The Little Theatre 6 Christchurch Place Balfour Street Hertford Hertford SG14 3BB United Kingdom;X-APPLE-RADIUS=500;X-TITLE=6 Christchurch Place\, Balfour Street:geo:-0.08556,51.80002
END:VEVENT
BEGIN:VEVENT
DTSTART;TZID=Europe/London:20251021T193000
DTEND;TZID=Europe/London:20251021T223000
DTSTAMP:20260422T050911
CREATED:20251001T132934Z
LAST-MODIFIED:20251001T132934Z
UID:10000989-1761075000-1761085800@cops.org.uk
SUMMARY:And Then There Were None - Rehearsal
DESCRIPTION:
URL:https://cops.org.uk/event/and-then-there-were-none-rehearsal-4/
LOCATION:The Little Theatre\, 6 Christchurch Place\, Balfour Street\, Hertford\, Hertford\, SG14 3BB\, United Kingdom
GEO:51.80002;-0.08556
X-APPLE-STRUCTURED-LOCATION;VALUE=URI;X-ADDRESS=The Little Theatre 6 Christchurch Place Balfour Street Hertford Hertford SG14 3BB United Kingdom;X-APPLE-RADIUS=500;X-TITLE=6 Christchurch Place\, Balfour Street:geo:-0.08556,51.80002
END:VEVENT
END:VCALENDAR