BEGIN:VCALENDAR
VERSION:2.0
PRODID:-//The Company of Players (Hertford) - ECPv6.15.20//NONSGML v1.0//EN
CALSCALE:GREGORIAN
METHOD:PUBLISH
X-WR-CALNAME:The Company of Players (Hertford)
X-ORIGINAL-URL:https://cops.org.uk
X-WR-CALDESC:Events for The Company of Players (Hertford)
REFRESH-INTERVAL;VALUE=DURATION:PT1H
X-Robots-Tag:noindex
X-PUBLISHED-TTL:PT1H
BEGIN:VTIMEZONE
TZID:Europe/London
BEGIN:DAYLIGHT
TZOFFSETFROM:+0000
TZOFFSETTO:+0100
TZNAME:BST
DTSTART:20250330T010000
END:DAYLIGHT
BEGIN:STANDARD
TZOFFSETFROM:+0100
TZOFFSETTO:+0000
TZNAME:GMT
DTSTART:20251026T010000
END:STANDARD
BEGIN:DAYLIGHT
TZOFFSETFROM:+0000
TZOFFSETTO:+0100
TZNAME:BST
DTSTART:20260329T010000
END:DAYLIGHT
BEGIN:STANDARD
TZOFFSETFROM:+0100
TZOFFSETTO:+0000
TZNAME:GMT
DTSTART:20261025T010000
END:STANDARD
BEGIN:DAYLIGHT
TZOFFSETFROM:+0000
TZOFFSETTO:+0100
TZNAME:BST
DTSTART:20270328T010000
END:DAYLIGHT
BEGIN:STANDARD
TZOFFSETFROM:+0100
TZOFFSETTO:+0000
TZNAME:GMT
DTSTART:20271031T010000
END:STANDARD
END:VTIMEZONE
BEGIN:VEVENT
DTSTART;TZID=Europe/London:20260417T193000
DTEND;TZID=Europe/London:20260417T220000
DTSTAMP:20260421T095342
CREATED:20260126T175537Z
LAST-MODIFIED:20260126T175537Z
UID:10001133-1776454200-1776463200@cops.org.uk
SUMMARY:Village Wooing Rehearsal
DESCRIPTION:
URL:https://cops.org.uk/event/village-wooing-rehearsal-14/
LOCATION:CoPs Foyer
CATEGORIES:Rehearsal
END:VEVENT
END:VCALENDAR